FILENAME: O4710913.NES.1079124.tif
QUADRANGLE_NAME: RAGLAND BENCH
QUADRANT: NE
WEST_LONGITUDE: -109 26 15.00000
EAST_LONGITUDE: -109 22 30.00000
NORTH_LATITUDE: 47 52 30.00000
SOUTH_LATITUDE: 47 48 45.00000
PRODUCTION_DATE: 2000 5 26
RASTER_ORDER: LEFT_RIGHT/TOP_BOTTOM
BAND_ORGANIZATION: SINGLE FILE
BAND_CONTENT: BLACK&WHITE
BAND_CONTENT: UNDEFINED
BAND_CONTENT: UNDEFINED
BITS_PER_PIXEL: 8
SAMPLES_AND_LINES: 5477 7649
HORIZONTAL_DATUM: NAD83
HORIZONTAL_COORDINATE_SYSTEM: UTM
COORDINATE_ZONE: 12
HORIZONTAL_UNITS: METERS
HORIZONTAL_RESOLUTION: 1.00000
SECONDARY_HORIZONTAL_DATUM: NAD27
XY_ORIGIN: 616479.00000 5303986.00000
SECONDARY_XY_ORIGIN: 616537.85100 5303770.12100
NATION: US
NATION: "SCIENCE
STATE: MT
NW_QUAD_CORNER_XY: 616835.32300 5303588.85700
NE_QUAD_CORNER_XY: 621508.61500 5303685.29500
SE_QUAD_CORNERY_XY: 621654.69600 5296739.14300
SW_QUAD_CORNER_XY: 616975.78400 5296642.68400
SECONDARY_NW_QUAD_XY: 616838.99100 5303370.04400
SECONDARY_NE_QUAD_XY: 621512.42900 5303466.48600
SECONDARY_SE_QUAD_XY: 621658.51000 5296520.35100
SECONDARY_SW_QUAD_XY: 616979.45100 5296423.88900
RMSE_XY: 2.30000
IMAGE_SOURCE: BLACK AND WHITE FILM
SOURCE_IMAGE_ID: NAPP 9163 019
SOURCE_IMAGE_DATE: 1998 07 23
SOURCE_IMAGE_ID: NAPP 9163 018
SOURCE_IMAGE_DATE: 1998 07 23
SOURCE_IMAGE_ID: NAPP 9163 020
SOURCE_IMAGE_DATE: 1998 07 23
SOURCE_DEM_DATE: 1963 00 00
AGENCY: WESTERN MAPPING CENTER (WMC)
PRODUCER: UNDEFINED
PRODUCTION_SYSTEM: GIS/MAGIC
COMPRESSION: UNDEFINED
STANDARD_VERSION: 1996 12
METADATA_DATE: 2000 06 14
DATA_FILE_SIZE: 41899050
BYTE_COUNT: 5477
