FILENAME: O4710913.NWS.1081152.tif
QUADRANGLE_NAME: RAGLAND BENCH
QUADRANT: NW
WEST_LONGITUDE: -109 30 0.00000
EAST_LONGITUDE: -109 26 15.00000
NORTH_LATITUDE: 47 52 30.00000
SOUTH_LATITUDE: 47 48 45.00000
PRODUCTION_DATE: 2000 6 6
RASTER_ORDER: LEFT_RIGHT/TOP_BOTTOM
BAND_ORGANIZATION: SINGLE FILE
BAND_CONTENT: BLACK&WHITE
BAND_CONTENT: UNDEFINED
BAND_CONTENT: UNDEFINED
BITS_PER_PIXEL: 8
SAMPLES_AND_LINES: 5472 7644
HORIZONTAL_DATUM: NAD83
HORIZONTAL_COORDINATE_SYSTEM: UTM
COORDINATE_ZONE: 12
HORIZONTAL_UNITS: METERS
HORIZONTAL_RESOLUTION: 1.00000
SECONDARY_HORIZONTAL_DATUM: NAD27
XY_ORIGIN: 611805.00000 5303889.00000
SECONDARY_XY_ORIGIN: 611863.89400 5303673.10300
NATION: US
NATION: "SCIENCE
STATE: MT
NW_QUAD_CORNER_XY: 612162.01800 5303496.20100
NE_QUAD_CORNER_XY: 616835.32300 5303588.85700
SE_QUAD_CORNERY_XY: 616975.78400 5296642.68400
SW_QUAD_CORNER_XY: 612296.85900 5296550.00900
SECONDARY_NW_QUAD_XY: 612165.53900 5303277.38600
SECONDARY_NE_QUAD_XY: 616838.99100 5303370.04400
SECONDARY_SE_QUAD_XY: 616979.45100 5296423.88900
SECONDARY_SW_QUAD_XY: 612300.37900 5296331.21100
RMSE_XY: 1.30000
IMAGE_SOURCE: BLACK AND WHITE FILM
SOURCE_IMAGE_ID: NAPP 9159 029
SOURCE_IMAGE_DATE: 1997 09 22
SOURCE_IMAGE_ID: NAPP 9159 028
SOURCE_IMAGE_DATE: 1997 09 22
SOURCE_IMAGE_ID: NAPP 9159 030
SOURCE_IMAGE_DATE: 1997 09 22
SOURCE_IMAGE_ID: NAPP 9163 019
SOURCE_IMAGE_DATE: 1998 07 23
SOURCE_DEM_DATE: 1963 00 00
AGENCY: WESTERN MAPPING CENTER (WMC)
PRODUCER: UNDEFINED
PRODUCTION_SYSTEM: GIS/MAGIC
COMPRESSION: UNDEFINED
STANDARD_VERSION: 1996 12
METADATA_DATE: 2000 06 15
DATA_FILE_SIZE: 41833440
BYTE_COUNT: 5472
