FILENAME: O4710913.SES.1081154.tif
QUADRANGLE_NAME: RAGLAND BENCH
QUADRANT: SE
WEST_LONGITUDE: -109 26 15.00000
EAST_LONGITUDE: -109 22 30.00000
NORTH_LATITUDE: 47 48 45.00000
SOUTH_LATITUDE: 47 45 0.00000
PRODUCTION_DATE: 2000 6 8
RASTER_ORDER: LEFT_RIGHT/TOP_BOTTOM
BAND_ORGANIZATION: SINGLE FILE
BAND_CONTENT: BLACK&WHITE
BAND_CONTENT: UNDEFINED
BAND_CONTENT: UNDEFINED
BITS_PER_PIXEL: 8
SAMPLES_AND_LINES: 5483 7649
HORIZONTAL_DATUM: NAD83
HORIZONTAL_COORDINATE_SYSTEM: UTM
COORDINATE_ZONE: 12
HORIZONTAL_UNITS: METERS
HORIZONTAL_RESOLUTION: 1.00000
SECONDARY_HORIZONTAL_DATUM: NAD27
XY_ORIGIN: 616619.00000 5297040.00000
SECONDARY_XY_ORIGIN: 616677.87300 5296824.17900
NATION: US
NATION: "SCIENCE
STATE: MT
NW_QUAD_CORNER_XY: 616975.78400 5296642.68400
NE_QUAD_CORNER_XY: 621654.69600 5296739.14300
SE_QUAD_CORNERY_XY: 621800.63200 5289793.06200
SW_QUAD_CORNER_XY: 617116.10500 5289696.58200
SECONDARY_NW_QUAD_XY: 616979.45100 5296423.88900
SECONDARY_NE_QUAD_XY: 621658.51000 5296520.35100
SECONDARY_SE_QUAD_XY: 621804.44600 5289574.28700
SECONDARY_SW_QUAD_XY: 617119.77200 5289477.80400
RMSE_XY: 2.30000
IMAGE_SOURCE: BLACK AND WHITE FILM
SOURCE_IMAGE_ID: NAPP 9163 017
SOURCE_IMAGE_DATE: 1998 07 23
SOURCE_IMAGE_ID: NAPP 9163 016
SOURCE_IMAGE_DATE: 1998 07 23
SOURCE_IMAGE_ID: NAPP 9163 018
SOURCE_IMAGE_DATE: 1998 07 23
SOURCE_IMAGE_ID: NAPP 9156 069
SOURCE_IMAGE_DATE: 1997 08 29
SOURCE_DEM_DATE: 1963 00 00
AGENCY: WESTERN MAPPING CENTER (WMC)
PRODUCER: UNDEFINED
PRODUCTION_SYSTEM: GIS/MAGIC
COMPRESSION: UNDEFINED
STANDARD_VERSION: 1996 12
METADATA_DATE: 2000 06 15
DATA_FILE_SIZE: 41944950
BYTE_COUNT: 5483
