FILENAME: O4710912.SWS.1081096.tif
QUADRANGLE_NAME: CHASE HILL
QUADRANT: SW
WEST_LONGITUDE: -109 37 30.00000
EAST_LONGITUDE: -109 33 45.00000
NORTH_LATITUDE: 47 48 45.00000
SOUTH_LATITUDE: 47 45 0.00000
PRODUCTION_DATE: 2000 6 5
RASTER_ORDER: LEFT_RIGHT/TOP_BOTTOM
BAND_ORGANIZATION: SINGLE FILE
BAND_CONTENT: BLACK&WHITE
BAND_CONTENT: UNDEFINED
BAND_CONTENT: UNDEFINED
BITS_PER_PIXEL: 8
SAMPLES_AND_LINES: 5467 7638
HORIZONTAL_DATUM: NAD83
HORIZONTAL_COORDINATE_SYSTEM: UTM
COORDINATE_ZONE: 12
HORIZONTAL_UNITS: METERS
HORIZONTAL_RESOLUTION: 1.00000
SECONDARY_HORIZONTAL_DATUM: NAD27
XY_ORIGIN: 602582.00000 5296762.00000
SECONDARY_XY_ORIGIN: 602640.89400 5296546.14300
NATION: US
NATION: "SCIENCE
STATE: MT
NW_QUAD_CORNER_XY: 602938.96900 5296376.01100
NE_QUAD_CORNER_XY: 607617.92000 5296461.11800
SE_QUAD_CORNERY_XY: 607747.01100 5289514.97800
SW_QUAD_CORNER_XY: 603062.44500 5289429.85300
SECONDARY_NW_QUAD_XY: 602942.19600 5296157.20700
SECONDARY_NE_QUAD_XY: 607621.29400 5296242.31700
SECONDARY_SE_QUAD_XY: 607750.38400 5289296.19500
SECONDARY_SW_QUAD_XY: 603065.67200 5289211.06700
RMSE_XY: 1.90000
IMAGE_SOURCE: BLACK AND WHITE FILM
SOURCE_IMAGE_ID: NAPP 9159 143
SOURCE_IMAGE_DATE: 1997 09 22
SOURCE_IMAGE_ID: NAPP 9159 142
SOURCE_IMAGE_DATE: 1997 09 22
SOURCE_IMAGE_ID: NAPP 9159 144
SOURCE_IMAGE_DATE: 1997 09 22
SOURCE_DEM_DATE: 1963 00 00
AGENCY: WESTERN MAPPING CENTER (WMC)
PRODUCER: UNDEFINED
PRODUCTION_SYSTEM: GIS/MAGIC
COMPRESSION: UNDEFINED
STANDARD_VERSION: 1996 12
METADATA_DATE: 2000 06 15
DATA_FILE_SIZE: 41762413
BYTE_COUNT: 5467
