FILENAME: O4710911.SES.1081083.tif
QUADRANGLE_NAME: PIGTAIL COULEE
QUADRANT: SE
WEST_LONGITUDE: -109 41 15.00000
EAST_LONGITUDE: -109 37 30.00000
NORTH_LATITUDE: 47 48 45.00000
SOUTH_LATITUDE: 47 45 0.00000
PRODUCTION_DATE: 2000 6 5
RASTER_ORDER: LEFT_RIGHT/TOP_BOTTOM
BAND_ORGANIZATION: SINGLE FILE
BAND_CONTENT: BLACK&WHITE
BAND_CONTENT: UNDEFINED
BAND_CONTENT: UNDEFINED
BITS_PER_PIXEL: 8
SAMPLES_AND_LINES: 5461 7634
HORIZONTAL_DATUM: NAD83
HORIZONTAL_COORDINATE_SYSTEM: UTM
COORDINATE_ZONE: 12
HORIZONTAL_UNITS: METERS
HORIZONTAL_RESOLUTION: 1.00000
SECONDARY_HORIZONTAL_DATUM: NAD27
XY_ORIGIN: 597903.00000 5296677.00000
SECONDARY_XY_ORIGIN: 597961.88800 5296461.13700
NATION: US
NATION: "SCIENCE
STATE: MT
NW_QUAD_CORNER_XY: 598260.00600 5296294.68800
NE_QUAD_CORNER_XY: 602938.96900 5296376.01100
SE_QUAD_CORNERY_XY: 603062.44500 5289429.85300
SW_QUAD_CORNER_XY: 598377.86800 5289348.51300
SECONDARY_NW_QUAD_XY: 598263.08600 5296075.88100
SECONDARY_NE_QUAD_XY: 602942.19600 5296157.20700
SECONDARY_SE_QUAD_XY: 603065.67200 5289211.06700
SECONDARY_SW_QUAD_XY: 598380.94800 5289129.72400
RMSE_XY: 1.00000
IMAGE_SOURCE: BLACK AND WHITE FILM
SOURCE_IMAGE_ID: NAPP 9159 224
SOURCE_IMAGE_DATE: 1997 09 22
SOURCE_IMAGE_ID: NAPP 9160 100
SOURCE_IMAGE_DATE: 1997 09 23
SOURCE_IMAGE_ID: NAPP 9159 223
SOURCE_IMAGE_DATE: 1997 09 22
SOURCE_IMAGE_ID: NAPP 9159 142
SOURCE_IMAGE_DATE: 1997 09 22
SOURCE_DEM_DATE: 1963 00 00
AGENCY: WESTERN MAPPING CENTER (WMC)
PRODUCER: UNDEFINED
PRODUCTION_SYSTEM: GIS/MAGIC
COMPRESSION: UNDEFINED
STANDARD_VERSION: 1996 12
METADATA_DATE: 2000 06 15
DATA_FILE_SIZE: 41694735
BYTE_COUNT: 5461
