FILENAME: O4710910.NES.1081069.tif
QUADRANGLE_NAME: ILIAD
QUADRANT: NE
WEST_LONGITUDE: -109 48 45.00000
EAST_LONGITUDE: -109 45 0.00000
NORTH_LATITUDE: 47 52 30.00000
SOUTH_LATITUDE: 47 48 45.00000
PRODUCTION_DATE: 2000 6 1
RASTER_ORDER: LEFT_RIGHT/TOP_BOTTOM
BAND_ORGANIZATION: SINGLE FILE
BAND_CONTENT: BLACK&WHITE
BAND_CONTENT: UNDEFINED
BAND_CONTENT: UNDEFINED
BITS_PER_PIXEL: 8
SAMPLES_AND_LINES: 5445 7626
HORIZONTAL_DATUM: NAD83
HORIZONTAL_COORDINATE_SYSTEM: UTM
COORDINATE_ZONE: 12
HORIZONTAL_UNITS: METERS
HORIZONTAL_RESOLUTION: 1.00000
SECONDARY_HORIZONTAL_DATUM: NAD27
XY_ORIGIN: 588438.00000 5303464.00000
SECONDARY_XY_ORIGIN: 588496.85000 5303248.17900
NATION: US
NATION: "SCIENCE
STATE: MT
NW_QUAD_CORNER_XY: 588795.30600 5303089.67100
NE_QUAD_CORNER_XY: 593468.67200 5303163.41200
SE_QUAD_CORNERY_XY: 593581.03200 5296217.14800
SW_QUAD_CORNER_XY: 588902.04700 5296143.39200
SECONDARY_NW_QUAD_XY: 588798.09300 5302870.84300
SECONDARY_NE_QUAD_XY: 593471.60600 5302944.58600
SECONDARY_SE_QUAD_XY: 593583.96500 5295998.33900
SECONDARY_SW_QUAD_XY: 588904.83400 5295924.58100
RMSE_XY: 1.00000
IMAGE_SOURCE: BLACK AND WHITE FILM
SOURCE_IMAGE_ID: NAPP 9128 137
SOURCE_IMAGE_DATE: 1996 07 29
SOURCE_IMAGE_ID: NAPP 9128 136
SOURCE_IMAGE_DATE: 1996 07 29
SOURCE_IMAGE_ID: NAPP 9160 098
SOURCE_IMAGE_DATE: 1997 09 23
SOURCE_DEM_DATE: 1952 00 00
AGENCY: WESTERN MAPPING CENTER (WMC)
PRODUCER: UNDEFINED
PRODUCTION_SYSTEM: GIS/MAGIC
COMPRESSION: UNDEFINED
STANDARD_VERSION: 1996 12
METADATA_DATE: 2000 06 15
DATA_FILE_SIZE: 41529015
BYTE_COUNT: 5445
