FILENAME: O4710910.NWS.1081070.tif
QUADRANGLE_NAME: ILIAD
QUADRANT: NW
WEST_LONGITUDE: -109 52 30.00000
EAST_LONGITUDE: -109 48 45.00000
NORTH_LATITUDE: 47 52 30.00000
SOUTH_LATITUDE: 47 48 45.00000
PRODUCTION_DATE: 2000 6 1
RASTER_ORDER: LEFT_RIGHT/TOP_BOTTOM
BAND_ORGANIZATION: SINGLE FILE
BAND_CONTENT: BLACK&WHITE
BAND_CONTENT: UNDEFINED
BAND_CONTENT: UNDEFINED
BITS_PER_PIXEL: 8
SAMPLES_AND_LINES: 5440 7622
HORIZONTAL_DATUM: NAD83
HORIZONTAL_COORDINATE_SYSTEM: UTM
COORDINATE_ZONE: 12
HORIZONTAL_UNITS: METERS
HORIZONTAL_RESOLUTION: 1.00000
SECONDARY_HORIZONTAL_DATUM: NAD27
XY_ORIGIN: 583764.00000 5303390.00000
SECONDARY_XY_ORIGIN: 583822.81200 5303174.22800
NATION: US
NATION: "SCIENCE
STATE: MT
NW_QUAD_CORNER_XY: 584121.93000 5303019.71300
NE_QUAD_CORNER_XY: 588795.30600 5303089.67100
SE_QUAD_CORNERY_XY: 588902.04700 5296143.39200
SW_QUAD_CORNER_XY: 584223.05100 5296073.41900
SECONDARY_NW_QUAD_XY: 584124.57000 5302800.88300
SECONDARY_NE_QUAD_XY: 588798.09300 5302870.84300
SECONDARY_SE_QUAD_XY: 588904.83400 5295924.58100
SECONDARY_SW_QUAD_XY: 584225.69200 5295854.60600
RMSE_XY: 1.40000
IMAGE_SOURCE: BLACK AND WHITE FILM
SOURCE_IMAGE_ID: NAPP 9128 184
SOURCE_IMAGE_DATE: 1996 07 29
SOURCE_IMAGE_ID: NAPP 9128 182
SOURCE_IMAGE_DATE: 1996 07 29
SOURCE_IMAGE_ID: NAPP 9128 183
SOURCE_IMAGE_DATE: 1996 07 29
SOURCE_DEM_DATE: 1952 00 00
AGENCY: WESTERN MAPPING CENTER (WMC)
PRODUCER: UNDEFINED
PRODUCTION_SYSTEM: GIS/MAGIC
COMPRESSION: UNDEFINED
STANDARD_VERSION: 1996 12
METADATA_DATE: 2000 06 15
DATA_FILE_SIZE: 41469120
BYTE_COUNT: 5440
