FILENAME: O4710909.NWS.1081058.tif
QUADRANGLE_NAME: DARK BUTTE
QUADRANT: NW
WEST_LONGITUDE: -110 0 0.00000
EAST_LONGITUDE: -109 56 15.00000
NORTH_LATITUDE: 47 52 30.00000
SOUTH_LATITUDE: 47 48 45.00000
PRODUCTION_DATE: 2000 6 1
RASTER_ORDER: LEFT_RIGHT/TOP_BOTTOM
BAND_ORGANIZATION: SINGLE FILE
BAND_CONTENT: BLACK&WHITE
BAND_CONTENT: UNDEFINED
BAND_CONTENT: UNDEFINED
BITS_PER_PIXEL: 8
SAMPLES_AND_LINES: 5429 7615
HORIZONTAL_DATUM: NAD83
HORIZONTAL_COORDINATE_SYSTEM: UTM
COORDINATE_ZONE: 12
HORIZONTAL_UNITS: METERS
HORIZONTAL_RESOLUTION: 1.00000
SECONDARY_HORIZONTAL_DATUM: NAD27
XY_ORIGIN: 574417.00000 5303254.00000
SECONDARY_XY_ORIGIN: 574475.73500 5303038.32400
NATION: US
NATION: "SCIENCE
STATE: MT
NW_QUAD_CORNER_XY: 574775.14900 5302891.14400
NE_QUAD_CORNER_XY: 579448.54400 5302953.53700
SE_QUAD_CORNERY_XY: 579544.04600 5296007.22900
SW_QUAD_CORNER_XY: 574865.03200 5295944.82200
SECONDARY_NW_QUAD_XY: 574777.49600 5302672.31000
SECONDARY_NE_QUAD_XY: 579451.03800 5302734.70500
SECONDARY_SE_QUAD_XY: 579546.54000 5295788.41400
SECONDARY_SW_QUAD_XY: 574867.37900 5295726.00500
RMSE_XY: 1.90000
IMAGE_SOURCE: BLACK AND WHITE FILM
SOURCE_IMAGE_ID: NAPP 9158 013
SOURCE_IMAGE_DATE: 1997 09 04
SOURCE_IMAGE_ID: NAPP 9178 197
SOURCE_IMAGE_DATE: 1997 09 04
SOURCE_IMAGE_ID: NAPP 9158 012
SOURCE_IMAGE_DATE: 1997 09 04
SOURCE_IMAGE_ID: NAPP 9158 014
SOURCE_IMAGE_DATE: 1997 09 04
SOURCE_DEM_DATE: 1987 00 00
AGENCY: WESTERN MAPPING CENTER (WMC)
PRODUCER: UNDEFINED
PRODUCTION_SYSTEM: GIS/MAGIC
COMPRESSION: UNDEFINED
STANDARD_VERSION: 1996 12
METADATA_DATE: 2000 06 15
DATA_FILE_SIZE: 41347264
BYTE_COUNT: 5429
