FILENAME: O4710909.SES.1081059.tif
QUADRANGLE_NAME: DARK BUTTE
QUADRANT: SE
WEST_LONGITUDE: -109 56 15.00000
EAST_LONGITUDE: -109 52 30.00000
NORTH_LATITUDE: 47 48 45.00000
SOUTH_LATITUDE: 47 45 0.00000
PRODUCTION_DATE: 2000 6 1
RASTER_ORDER: LEFT_RIGHT/TOP_BOTTOM
BAND_ORGANIZATION: SINGLE FILE
BAND_CONTENT: BLACK&WHITE
BAND_CONTENT: UNDEFINED
BAND_CONTENT: UNDEFINED
BITS_PER_PIXEL: 8
SAMPLES_AND_LINES: 5440 7619
HORIZONTAL_DATUM: NAD83
HORIZONTAL_COORDINATE_SYSTEM: UTM
COORDINATE_ZONE: 12
HORIZONTAL_UNITS: METERS
HORIZONTAL_RESOLUTION: 1.00000
SECONDARY_HORIZONTAL_DATUM: NAD27
XY_ORIGIN: 579186.00000 5296374.00000
SECONDARY_XY_ORIGIN: 579244.74400 5296158.24100
NATION: US
NATION: "SCIENCE
STATE: MT
NW_QUAD_CORNER_XY: 579544.04600 5296007.22900
NE_QUAD_CORNER_XY: 584223.05100 5296073.41900
SE_QUAD_CORNERY_XY: 584324.07200 5289127.19700
SW_QUAD_CORNER_XY: 579639.45400 5289060.99300
SECONDARY_NW_QUAD_XY: 579546.54000 5295788.41400
SECONDARY_NE_QUAD_XY: 584225.69200 5295854.60600
SECONDARY_SE_QUAD_XY: 584326.71200 5288908.40200
SECONDARY_SW_QUAD_XY: 579641.94700 5288842.19600
RMSE_XY: 2.20000
IMAGE_SOURCE: BLACK AND WHITE FILM
SOURCE_IMAGE_ID: NAPP 9128 263
SOURCE_IMAGE_DATE: 1996 07 29
SOURCE_IMAGE_ID: NAPP 9160 022
SOURCE_IMAGE_DATE: 1997 09 23
SOURCE_IMAGE_ID: NAPP 9158 011
SOURCE_IMAGE_DATE: 1997 09 04
SOURCE_IMAGE_ID: NAPP 9128 264
SOURCE_IMAGE_DATE: 1996 07 29
SOURCE_DEM_DATE: 1987 00 00
AGENCY: WESTERN MAPPING CENTER (WMC)
PRODUCER: UNDEFINED
PRODUCTION_SYSTEM: GIS/MAGIC
COMPRESSION: UNDEFINED
STANDARD_VERSION: 1996 12
METADATA_DATE: 2000 06 15
DATA_FILE_SIZE: 41452800
BYTE_COUNT: 5440
