FILENAME: O4710908.NWS.1080646.tif
QUADRANGLE_NAME: BUTCH RESERVOIR
QUADRANT: NW
WEST_LONGITUDE: -109 7 30.00000
EAST_LONGITUDE: -109 3 45.00000
NORTH_LATITUDE: 48 0 0.00000
SOUTH_LATITUDE: 47 56 15.00000
PRODUCTION_DATE: 2000 5 19
RASTER_ORDER: LEFT_RIGHT/TOP_BOTTOM
BAND_ORGANIZATION: SINGLE FILE
BAND_CONTENT: BLACK&WHITE
BAND_CONTENT: UNDEFINED
BAND_CONTENT: UNDEFINED
BITS_PER_PIXEL: 8
SAMPLES_AND_LINES: 5494 7667
HORIZONTAL_DATUM: NAD83
HORIZONTAL_COORDINATE_SYSTEM: UTM
COORDINATE_ZONE: 12
HORIZONTAL_UNITS: METERS
HORIZONTAL_RESOLUTION: 1.00000
SECONDARY_HORIZONTAL_DATUM: NAD27
XY_ORIGIN: 639508.00000 5318417.00000
SECONDARY_XY_ORIGIN: 639566.64900 5318200.97700
NATION: US
NATION: "SCIENCE
STATE: MT
NW_QUAD_CORNER_XY: 639863.98900 5318001.21400
NE_QUAD_CORNER_XY: 644525.94100 5318116.52200
SE_QUAD_CORNERY_XY: 644700.47900 5311170.35200
SW_QUAD_CORNER_XY: 640032.89400 5311055.01800
SECONDARY_NW_QUAD_XY: 639868.39100 5317782.38700
SECONDARY_NE_QUAD_XY: 644530.48900 5317897.69900
SECONDARY_SE_QUAD_XY: 644705.02700 5310951.54300
SECONDARY_SW_QUAD_XY: 640037.29500 5310836.20600
RMSE_XY: 1.50000
IMAGE_SOURCE: BLACK AND WHITE FILM
SOURCE_IMAGE_ID: NAPP 9157 245
SOURCE_IMAGE_DATE: 1997 09 05
SOURCE_IMAGE_ID: NAPP 9130 034
SOURCE_IMAGE_DATE: 1996 07 27
SOURCE_IMAGE_ID: NAPP 9130 033
SOURCE_IMAGE_DATE: 1996 07 27
SOURCE_IMAGE_ID: NAPP 9129 209
SOURCE_IMAGE_DATE: 1996 07 27
SOURCE_IMAGE_ID: NAPP 9129 211
SOURCE_IMAGE_DATE: 1996 07 27
SOURCE_DEM_DATE: 1978 00 00
AGENCY: WESTERN MAPPING CENTER (WMC)
PRODUCER: UNDEFINED
PRODUCTION_SYSTEM: GIS/MAGIC
COMPRESSION: UNDEFINED
STANDARD_VERSION: 1996 12
METADATA_DATE: 2000 06 14
DATA_FILE_SIZE: 42127992
BYTE_COUNT: 5494
