FILENAME: O4710907.NWS.1080642.tif
QUADRANGLE_NAME: SANDPIPER RESERVOIR
QUADRANT: NW
WEST_LONGITUDE: -109 15 0.00000
EAST_LONGITUDE: -109 11 15.00000
NORTH_LATITUDE: 48 0 0.00000
SOUTH_LATITUDE: 47 56 15.00000
PRODUCTION_DATE: 2000 5 19
RASTER_ORDER: LEFT_RIGHT/TOP_BOTTOM
BAND_ORGANIZATION: SINGLE FILE
BAND_CONTENT: BLACK&WHITE
BAND_CONTENT: UNDEFINED
BAND_CONTENT: UNDEFINED
BITS_PER_PIXEL: 8
SAMPLES_AND_LINES: 5483 7660
HORIZONTAL_DATUM: NAD83
HORIZONTAL_COORDINATE_SYSTEM: UTM
COORDINATE_ZONE: 12
HORIZONTAL_UNITS: METERS
HORIZONTAL_RESOLUTION: 1.00000
SECONDARY_HORIZONTAL_DATUM: NAD27
XY_ORIGIN: 630184.00000 5318190.00000
SECONDARY_XY_ORIGIN: 630242.62200 5317974.02900
NATION: US
NATION: "SCIENCE
STATE: MT
NW_QUAD_CORNER_XY: 630540.03400 5317781.94700
NE_QUAD_CORNER_XY: 635202.02000 5317889.68900
SE_QUAD_CORNERY_XY: 635365.29100 5310943.46800
SW_QUAD_CORNER_XY: 630697.67200 5310835.70100
SECONDARY_NW_QUAD_XY: 630544.14200 5317563.11300
SECONDARY_NE_QUAD_XY: 635206.27500 5317670.85900
SECONDARY_SE_QUAD_XY: 635369.54500 5310724.65200
SECONDARY_SW_QUAD_XY: 630701.78000 5310616.88200
RMSE_XY: 1.80000
IMAGE_SOURCE: BLACK AND WHITE FILM
SOURCE_IMAGE_ID: NAPP 9145 030
SOURCE_IMAGE_DATE: 1996 08 25
SOURCE_IMAGE_ID: NAPP 9156 029
SOURCE_IMAGE_DATE: 1997 08 29
SOURCE_IMAGE_ID: NAPP 9145 029
SOURCE_IMAGE_DATE: 1996 08 25
SOURCE_IMAGE_ID: NAPP 9145 031
SOURCE_IMAGE_DATE: 1996 08 25
SOURCE_IMAGE_ID: NAPP 9130 033
SOURCE_IMAGE_DATE: 1996 07 27
SOURCE_DEM_DATE: 1978 00 00
AGENCY: WESTERN MAPPING CENTER (WMC)
PRODUCER: UNDEFINED
PRODUCTION_SYSTEM: GIS/MAGIC
COMPRESSION: UNDEFINED
STANDARD_VERSION: 1996 12
METADATA_DATE: 2000 06 14
DATA_FILE_SIZE: 42005263
BYTE_COUNT: 5483
