FILENAME: O4710906.NES.1080629.tif
QUADRANGLE_NAME: NOLAN RESERVOIR
QUADRANT: NE
WEST_LONGITUDE: -109 18 45.00000
EAST_LONGITUDE: -109 15 0.00000
NORTH_LATITUDE: 48 0 0.00000
SOUTH_LATITUDE: 47 56 15.00000
PRODUCTION_DATE: 2000 5 19
RASTER_ORDER: LEFT_RIGHT/TOP_BOTTOM
BAND_ORGANIZATION: SINGLE FILE
BAND_CONTENT: BLACK&WHITE
BAND_CONTENT: UNDEFINED
BAND_CONTENT: UNDEFINED
BITS_PER_PIXEL: 8
SAMPLES_AND_LINES: 5477 7656
HORIZONTAL_DATUM: NAD83
HORIZONTAL_COORDINATE_SYSTEM: UTM
COORDINATE_ZONE: 12
HORIZONTAL_UNITS: METERS
HORIZONTAL_RESOLUTION: 1.00000
SECONDARY_HORIZONTAL_DATUM: NAD27
XY_ORIGIN: 625522.00000 5318082.00000
SECONDARY_XY_ORIGIN: 625580.68200 5317866.02000
NATION: US
NATION: "SCIENCE
STATE: MT
NW_QUAD_CORNER_XY: 625878.03200 5317677.98700
NE_QUAD_CORNER_XY: 630540.03400 5317781.94700
SE_QUAD_CORNERY_XY: 630697.67200 5310835.70100
SW_QUAD_CORNER_XY: 626030.03700 5310731.71700
SECONDARY_NW_QUAD_XY: 625881.99300 5317459.14900
SECONDARY_NE_QUAD_XY: 630544.14200 5317563.11300
SECONDARY_SE_QUAD_XY: 630701.78000 5310616.88200
SECONDARY_SW_QUAD_XY: 626033.99800 5310512.89500
RMSE_XY: 1.50000
IMAGE_SOURCE: BLACK AND WHITE FILM
SOURCE_IMAGE_ID: NAPP 9156 028
SOURCE_IMAGE_DATE: 1997 08 29
SOURCE_IMAGE_ID: NAPP 9156 029
SOURCE_IMAGE_DATE: 1997 08 29
SOURCE_IMAGE_ID: NAPP 9156 027
SOURCE_IMAGE_DATE: 1997 08 29
SOURCE_IMAGE_ID: NAPP 9145 030
SOURCE_IMAGE_DATE: 1996 08 25
SOURCE_DEM_DATE: 1985 00 00
AGENCY: WESTERN MAPPING CENTER (WMC)
PRODUCER: UNDEFINED
PRODUCTION_SYSTEM: GIS/MAGIC
COMPRESSION: UNDEFINED
STANDARD_VERSION: 1996 12
METADATA_DATE: 2000 06 14
DATA_FILE_SIZE: 41937389
BYTE_COUNT: 5477
