FILENAME: O4710906.NWS.1080630.tif
QUADRANGLE_NAME: NOLAN RESERVOIR
QUADRANT: NW
WEST_LONGITUDE: -109 22 30.00000
EAST_LONGITUDE: -109 18 45.00000
NORTH_LATITUDE: 48 0 0.00000
SOUTH_LATITUDE: 47 56 15.00000
PRODUCTION_DATE: 2000 5 19
RASTER_ORDER: LEFT_RIGHT/TOP_BOTTOM
BAND_ORGANIZATION: SINGLE FILE
BAND_CONTENT: BLACK&WHITE
BAND_CONTENT: UNDEFINED
BAND_CONTENT: UNDEFINED
BITS_PER_PIXEL: 8
SAMPLES_AND_LINES: 5472 7652
HORIZONTAL_DATUM: NAD83
HORIZONTAL_COORDINATE_SYSTEM: UTM
COORDINATE_ZONE: 12
HORIZONTAL_UNITS: METERS
HORIZONTAL_RESOLUTION: 1.00000
SECONDARY_HORIZONTAL_DATUM: NAD27
XY_ORIGIN: 620860.00000 5317978.00000
SECONDARY_XY_ORIGIN: 620918.74400 5317762.01400
NATION: US
NATION: "SCIENCE
STATE: MT
NW_QUAD_CORNER_XY: 621216.01400 5317577.80900
NE_QUAD_CORNER_XY: 625878.03200 5317677.98700
SE_QUAD_CORNERY_XY: 626030.03700 5310731.71700
SW_QUAD_CORNER_XY: 621362.38700 5310631.51700
SECONDARY_NW_QUAD_XY: 621219.82900 5317358.96800
SECONDARY_NE_QUAD_XY: 625881.99300 5317459.14900
SECONDARY_SE_QUAD_XY: 626033.99800 5310512.89500
SECONDARY_SW_QUAD_XY: 621366.20200 5310412.69200
RMSE_XY: 1.90000
IMAGE_SOURCE: BLACK AND WHITE FILM
SOURCE_IMAGE_ID: NAPP 9156 028
SOURCE_IMAGE_DATE: 1997 08 29
SOURCE_IMAGE_ID: NAPP 9163 022
SOURCE_IMAGE_DATE: 1998 07 23
SOURCE_IMAGE_ID: NAPP 9163 024
SOURCE_IMAGE_DATE: 1998 07 23
SOURCE_IMAGE_ID: NAPP 9156 076
SOURCE_IMAGE_DATE: 1997 08 29
SOURCE_IMAGE_ID: NAPP 9156 029
SOURCE_IMAGE_DATE: 1997 08 29
SOURCE_DEM_DATE: 1985 00 00
AGENCY: WESTERN MAPPING CENTER (WMC)
PRODUCER: UNDEFINED
PRODUCTION_SYSTEM: GIS/MAGIC
COMPRESSION: UNDEFINED
STANDARD_VERSION: 1996 12
METADATA_DATE: 2000 06 14
DATA_FILE_SIZE: 41877216
BYTE_COUNT: 5472
