FILENAME: O4710904.NES.1080578.tif
QUADRANGLE_NAME: ESKAY NE
QUADRANT: NE
WEST_LONGITUDE: -109 33 45.00000
EAST_LONGITUDE: -109 30 0.00000
NORTH_LATITUDE: 48 0 0.00000
SOUTH_LATITUDE: 47 56 15.00000
PRODUCTION_DATE: 2000 6 5
RASTER_ORDER: LEFT_RIGHT/TOP_BOTTOM
BAND_ORGANIZATION: SINGLE FILE
BAND_CONTENT: BLACK&WHITE
BAND_CONTENT: UNDEFINED
BAND_CONTENT: UNDEFINED
BITS_PER_PIXEL: 8
SAMPLES_AND_LINES: 5456 7641
HORIZONTAL_DATUM: NAD83
HORIZONTAL_COORDINATE_SYSTEM: UTM
COORDINATE_ZONE: 12
HORIZONTAL_UNITS: METERS
HORIZONTAL_RESOLUTION: 1.00000
SECONDARY_HORIZONTAL_DATUM: NAD27
XY_ORIGIN: 606873.00000 5317689.00000
SECONDARY_XY_ORIGIN: 606931.87500 5317473.03300
NATION: US
NATION: "SCIENCE
STATE: MT
NW_QUAD_CORNER_XY: 607229.87400 5317299.96600
NE_QUAD_CORNER_XY: 611891.93500 5317388.79800
SE_QUAD_CORNERY_XY: 612027.04400 5310442.46400
SW_QUAD_CORNER_XY: 607359.35200 5310353.61200
SECONDARY_NW_QUAD_XY: 607233.24900 5317081.11700
SECONDARY_NE_QUAD_XY: 611895.45600 5317169.95200
SECONDARY_SE_QUAD_XY: 612030.56500 5310223.63300
SECONDARY_SW_QUAD_XY: 607362.72600 5310134.77800
RMSE_XY: 0.90000
IMAGE_SOURCE: BLACK AND WHITE FILM
SOURCE_IMAGE_ID: NAPP 9159 102
SOURCE_IMAGE_DATE: 1997 09 22
SOURCE_IMAGE_ID: NAPP 9159 103
SOURCE_IMAGE_DATE: 1997 09 22
SOURCE_IMAGE_ID: NAPP 9159 101
SOURCE_IMAGE_DATE: 1997 09 22
SOURCE_DEM_DATE: 1984 00 00
AGENCY: WESTERN MAPPING CENTER (WMC)
PRODUCER: UNDEFINED
PRODUCTION_SYSTEM: GIS/MAGIC
COMPRESSION: UNDEFINED
STANDARD_VERSION: 1996 12
METADATA_DATE: 2000 06 14
DATA_FILE_SIZE: 41694752
BYTE_COUNT: 5456
