FILENAME: O4710904.SES.1080580.tif
QUADRANGLE_NAME: ESKAY NE
QUADRANT: SE
WEST_LONGITUDE: -109 33 45.00000
EAST_LONGITUDE: -109 30 0.00000
NORTH_LATITUDE: 47 56 15.00000
SOUTH_LATITUDE: 47 52 30.00000
PRODUCTION_DATE: 2000 6 5
RASTER_ORDER: LEFT_RIGHT/TOP_BOTTOM
BAND_ORGANIZATION: SINGLE FILE
BAND_CONTENT: BLACK&WHITE
BAND_CONTENT: UNDEFINED
BAND_CONTENT: UNDEFINED
BITS_PER_PIXEL: 8
SAMPLES_AND_LINES: 5462 7641
HORIZONTAL_DATUM: NAD83
HORIZONTAL_COORDINATE_SYSTEM: UTM
COORDINATE_ZONE: 12
HORIZONTAL_UNITS: METERS
HORIZONTAL_RESOLUTION: 1.00000
SECONDARY_HORIZONTAL_DATUM: NAD27
XY_ORIGIN: 607002.00000 5310743.00000
SECONDARY_XY_ORIGIN: 607060.88300 5310527.07100
NATION: US
NATION: "SCIENCE
STATE: MT
NW_QUAD_CORNER_XY: 607359.35200 5310353.61200
NE_QUAD_CORNER_XY: 612027.04400 5310442.46400
SE_QUAD_CORNERY_XY: 612162.01800 5303496.20100
SW_QUAD_CORNER_XY: 607488.70000 5303407.32900
SECONDARY_NW_QUAD_XY: 607362.72600 5310134.77800
SECONDARY_NE_QUAD_XY: 612030.56500 5310223.63300
SECONDARY_SE_QUAD_XY: 612165.53900 5303277.38600
SECONDARY_SW_QUAD_XY: 607492.07400 5303188.51200
RMSE_XY: 1.00000
IMAGE_SOURCE: BLACK AND WHITE FILM
SOURCE_IMAGE_ID: NAPP 9159 104
SOURCE_IMAGE_DATE: 1997 09 22
SOURCE_IMAGE_ID: NAPP 9159 105
SOURCE_IMAGE_DATE: 1997 09 22
SOURCE_DEM_DATE: 1984 00 00
AGENCY: WESTERN MAPPING CENTER (WMC)
PRODUCER: UNDEFINED
PRODUCTION_SYSTEM: GIS/MAGIC
COMPRESSION: UNDEFINED
STANDARD_VERSION: 1996 12
METADATA_DATE: 2000 06 14
DATA_FILE_SIZE: 41740604
BYTE_COUNT: 5462
