FILENAME: O4710903.NES.1080482.tif
QUADRANGLE_NAME: ESKAY NW
QUADRANT: NE
WEST_LONGITUDE: -109 41 15.00000
EAST_LONGITUDE: -109 37 30.00000
NORTH_LATITUDE: 48 0 0.00000
SOUTH_LATITUDE: 47 56 15.00000
PRODUCTION_DATE: 2000 6 2
RASTER_ORDER: LEFT_RIGHT/TOP_BOTTOM
BAND_ORGANIZATION: SINGLE FILE
BAND_CONTENT: BLACK&WHITE
BAND_CONTENT: UNDEFINED
BAND_CONTENT: UNDEFINED
BITS_PER_PIXEL: 8
SAMPLES_AND_LINES: 5445 7633
HORIZONTAL_DATUM: NAD83
HORIZONTAL_COORDINATE_SYSTEM: UTM
COORDINATE_ZONE: 12
HORIZONTAL_UNITS: METERS
HORIZONTAL_RESOLUTION: 1.00000
SECONDARY_HORIZONTAL_DATUM: NAD27
XY_ORIGIN: 597548.00000 5317515.00000
SECONDARY_XY_ORIGIN: 597606.89700 5317299.09400
NATION: US
NATION: "SCIENCE
STATE: MT
NW_QUAD_CORNER_XY: 597905.71400 5317133.64500
NE_QUAD_CORNER_XY: 602567.80100 5317214.91500
SE_QUAD_CORNERY_XY: 602691.64600 5310268.54200
SW_QUAD_CORNER_XY: 598023.92900 5310187.25400
SECONDARY_NW_QUAD_XY: 597908.79500 5316914.79000
SECONDARY_NE_QUAD_XY: 602571.02800 5316996.06300
SECONDARY_SE_QUAD_XY: 602694.87400 5310049.70500
SECONDARY_SW_QUAD_XY: 598027.01000 5309968.41500
RMSE_XY: 0.90000
IMAGE_SOURCE: BLACK AND WHITE FILM
SOURCE_IMAGE_ID: NAPP 9159 218
SOURCE_IMAGE_DATE: 1997 09 22
SOURCE_IMAGE_ID: NAPP 9160 092
SOURCE_IMAGE_DATE: 1997 09 23
SOURCE_IMAGE_ID: NAPP 9159 219
SOURCE_IMAGE_DATE: 1997 09 22
SOURCE_IMAGE_ID: NAPP 9159 217
SOURCE_IMAGE_DATE: 1997 09 22
SOURCE_DEM_DATE: 1975 00 00
AGENCY: WESTERN MAPPING CENTER (WMC)
PRODUCER: UNDEFINED
PRODUCTION_SYSTEM: GIS/MAGIC
COMPRESSION: UNDEFINED
STANDARD_VERSION: 1996 12
METADATA_DATE: 2000 06 14
DATA_FILE_SIZE: 41567130
BYTE_COUNT: 5445
