FILENAME: O4710903.NWS.1080483.tif
QUADRANGLE_NAME: ESKAY NW
QUADRANT: NW
WEST_LONGITUDE: -109 45 0.00000
EAST_LONGITUDE: -109 41 15.00000
NORTH_LATITUDE: 48 0 0.00000
SOUTH_LATITUDE: 47 56 15.00000
PRODUCTION_DATE: 2000 6 2
RASTER_ORDER: LEFT_RIGHT/TOP_BOTTOM
BAND_ORGANIZATION: SINGLE FILE
BAND_CONTENT: BLACK&WHITE
BAND_CONTENT: UNDEFINED
BAND_CONTENT: UNDEFINED
BITS_PER_PIXEL: 8
SAMPLES_AND_LINES: 5439 7630
HORIZONTAL_DATUM: NAD83
HORIZONTAL_COORDINATE_SYSTEM: UTM
COORDINATE_ZONE: 12
HORIZONTAL_UNITS: METERS
HORIZONTAL_RESOLUTION: 1.00000
SECONDARY_HORIZONTAL_DATUM: NAD27
XY_ORIGIN: 592886.00000 5317434.00000
SECONDARY_XY_ORIGIN: 592944.90800 5317218.12500
NATION: US
NATION: "SCIENCE
STATE: MT
NW_QUAD_CORNER_XY: 593243.61600 5317056.15600
NE_QUAD_CORNER_XY: 597905.71400 5317133.64500
SE_QUAD_CORNERY_XY: 598023.92900 5310187.25400
SW_QUAD_CORNER_XY: 593356.20000 5310109.74800
SECONDARY_NW_QUAD_XY: 593246.55000 5316837.29900
SECONDARY_NE_QUAD_XY: 597908.79500 5316914.79000
SECONDARY_SE_QUAD_XY: 598027.01000 5309968.41500
SECONDARY_SW_QUAD_XY: 593359.13400 5309890.90600
RMSE_XY: 1.20000
IMAGE_SOURCE: BLACK AND WHITE FILM
SOURCE_IMAGE_ID: NAPP 9160 093
SOURCE_IMAGE_DATE: 1997 09 23
SOURCE_IMAGE_ID: NAPP 9160 092
SOURCE_IMAGE_DATE: 1997 09 23
SOURCE_DEM_DATE: 1975 00 00
AGENCY: WESTERN MAPPING CENTER (WMC)
PRODUCER: UNDEFINED
PRODUCTION_SYSTEM: GIS/MAGIC
COMPRESSION: UNDEFINED
STANDARD_VERSION: 1996 12
METADATA_DATE: 2000 06 14
DATA_FILE_SIZE: 41505009
BYTE_COUNT: 5439
