FILENAME: O4710903.SWS.1080485.tif
QUADRANGLE_NAME: ESKAY NW
QUADRANT: SW
WEST_LONGITUDE: -109 45 0.00000
EAST_LONGITUDE: -109 41 15.00000
NORTH_LATITUDE: 47 56 15.00000
SOUTH_LATITUDE: 47 52 30.00000
PRODUCTION_DATE: 2000 6 2
RASTER_ORDER: LEFT_RIGHT/TOP_BOTTOM
BAND_ORGANIZATION: SINGLE FILE
BAND_CONTENT: BLACK&WHITE
BAND_CONTENT: UNDEFINED
BAND_CONTENT: UNDEFINED
BITS_PER_PIXEL: 8
SAMPLES_AND_LINES: 5445 7630
HORIZONTAL_DATUM: NAD83
HORIZONTAL_COORDINATE_SYSTEM: UTM
COORDINATE_ZONE: 12
HORIZONTAL_UNITS: METERS
HORIZONTAL_RESOLUTION: 1.00000
SECONDARY_HORIZONTAL_DATUM: NAD27
XY_ORIGIN: 592999.00000 5310488.00000
SECONDARY_XY_ORIGIN: 593057.90000 5310272.12600
NATION: US
NATION: "SCIENCE
STATE: MT
NW_QUAD_CORNER_XY: 593356.20000 5310109.74800
NE_QUAD_CORNER_XY: 598023.92900 5310187.25400
SE_QUAD_CORNERY_XY: 598142.02600 5303240.93500
SW_QUAD_CORNER_XY: 593468.67200 5303163.41200
SECONDARY_NW_QUAD_XY: 593359.13400 5309890.90600
SECONDARY_NE_QUAD_XY: 598027.01000 5309968.41500
SECONDARY_SE_QUAD_XY: 598145.10700 5303022.11200
SECONDARY_SW_QUAD_XY: 593471.60600 5302944.58600
RMSE_XY: 1.50000
IMAGE_SOURCE: BLACK AND WHITE FILM
SOURCE_IMAGE_ID: NAPP 9160 095
SOURCE_IMAGE_DATE: 1997 09 23
SOURCE_IMAGE_ID: NAPP 9160 094
SOURCE_IMAGE_DATE: 1997 09 23
SOURCE_DEM_DATE: 1975 00 00
AGENCY: WESTERN MAPPING CENTER (WMC)
PRODUCER: UNDEFINED
PRODUCTION_SYSTEM: GIS/MAGIC
COMPRESSION: UNDEFINED
STANDARD_VERSION: 1996 12
METADATA_DATE: 2000 06 14
DATA_FILE_SIZE: 41550795
BYTE_COUNT: 5445
