FILENAME: O4710902.NES.1080063.tif
QUADRANGLE_NAME: SEIFORT RESERVOIR
QUADRANT: NE
WEST_LONGITUDE: -109 48 45.00000
EAST_LONGITUDE: -109 45 0.00000
NORTH_LATITUDE: 48 0 0.00000
SOUTH_LATITUDE: 47 56 15.00000
PRODUCTION_DATE: 2000 6 2
RASTER_ORDER: LEFT_RIGHT/TOP_BOTTOM
BAND_ORGANIZATION: SINGLE FILE
BAND_CONTENT: BLACK&WHITE
BAND_CONTENT: UNDEFINED
BAND_CONTENT: UNDEFINED
BITS_PER_PIXEL: 8
SAMPLES_AND_LINES: 5434 7627
HORIZONTAL_DATUM: NAD83
HORIZONTAL_COORDINATE_SYSTEM: UTM
COORDINATE_ZONE: 12
HORIZONTAL_UNITS: METERS
HORIZONTAL_RESOLUTION: 1.00000
SECONDARY_HORIZONTAL_DATUM: NAD27
XY_ORIGIN: 588224.00000 5317357.00000
SECONDARY_XY_ORIGIN: 588282.88100 5317141.20100
NATION: US
NATION: "SCIENCE
STATE: MT
NW_QUAD_CORNER_XY: 588581.50600 5316982.44800
NE_QUAD_CORNER_XY: 593243.61600 5317056.15600
SE_QUAD_CORNERY_XY: 593356.20000 5310109.74800
SW_QUAD_CORNER_XY: 588688.45900 5310036.02300
SECONDARY_NW_QUAD_XY: 588584.29300 5316763.58900
SECONDARY_NE_QUAD_XY: 593246.55000 5316837.29900
SECONDARY_SE_QUAD_XY: 593359.13400 5309890.90600
SECONDARY_SW_QUAD_XY: 588691.24600 5309817.17900
RMSE_XY: 0.90000
IMAGE_SOURCE: BLACK AND WHITE FILM
SOURCE_IMAGE_ID: NAPP 9128 133
SOURCE_IMAGE_DATE: 1996 07 29
SOURCE_IMAGE_ID: NAPP 9128 134
SOURCE_IMAGE_DATE: 1996 07 29
SOURCE_IMAGE_ID: NAPP 9128 132
SOURCE_IMAGE_DATE: 1996 07 29
SOURCE_DEM_DATE: 1975 00 00
AGENCY: WESTERN MAPPING CENTER (WMC)
PRODUCER: UNDEFINED
PRODUCTION_SYSTEM: GIS/MAGIC
COMPRESSION: UNDEFINED
STANDARD_VERSION: 1996 12
METADATA_DATE: 2000 06 12
DATA_FILE_SIZE: 41450552
BYTE_COUNT: 5434
