FILENAME: O4710902.SES.1080065.tif
QUADRANGLE_NAME: SEIFORT RESERVOIR
QUADRANT: SE
WEST_LONGITUDE: -109 48 45.00000
EAST_LONGITUDE: -109 45 0.00000
NORTH_LATITUDE: 47 56 15.00000
SOUTH_LATITUDE: 47 52 30.00000
PRODUCTION_DATE: 2000 6 2
RASTER_ORDER: LEFT_RIGHT/TOP_BOTTOM
BAND_ORGANIZATION: SINGLE FILE
BAND_CONTENT: BLACK&WHITE
BAND_CONTENT: UNDEFINED
BAND_CONTENT: UNDEFINED
BITS_PER_PIXEL: 8
SAMPLES_AND_LINES: 5439 7626
HORIZONTAL_DATUM: NAD83
HORIZONTAL_COORDINATE_SYSTEM: UTM
COORDINATE_ZONE: 12
HORIZONTAL_UNITS: METERS
HORIZONTAL_RESOLUTION: 1.00000
SECONDARY_HORIZONTAL_DATUM: NAD27
XY_ORIGIN: 588331.00000 5310410.00000
SECONDARY_XY_ORIGIN: 588389.86600 5310194.19000
NATION: US
NATION: "SCIENCE
STATE: MT
NW_QUAD_CORNER_XY: 588688.45900 5310036.02300
NE_QUAD_CORNER_XY: 593356.20000 5310109.74800
SE_QUAD_CORNERY_XY: 593468.67200 5303163.41200
SW_QUAD_CORNER_XY: 588795.30600 5303089.67100
SECONDARY_NW_QUAD_XY: 588691.24600 5309817.17900
SECONDARY_NE_QUAD_XY: 593359.13400 5309890.90600
SECONDARY_SE_QUAD_XY: 593471.60600 5302944.58600
SECONDARY_SW_QUAD_XY: 588798.09300 5302870.84300
RMSE_XY: 1.00000
IMAGE_SOURCE: BLACK AND WHITE FILM
SOURCE_IMAGE_ID: NAPP 9128 135
SOURCE_IMAGE_DATE: 1996 07 29
SOURCE_IMAGE_ID: NAPP 9128 136
SOURCE_IMAGE_DATE: 1996 07 29
SOURCE_IMAGE_ID: NAPP 9128 134
SOURCE_IMAGE_DATE: 1996 07 29
SOURCE_DEM_DATE: 1975 00 00
AGENCY: WESTERN MAPPING CENTER (WMC)
PRODUCER: UNDEFINED
PRODUCTION_SYSTEM: GIS/MAGIC
COMPRESSION: UNDEFINED
STANDARD_VERSION: 1996 12
METADATA_DATE: 2000 06 12
DATA_FILE_SIZE: 41483253
BYTE_COUNT: 5439
