FILENAME: O4710902.SWS.1080066.tif
QUADRANGLE_NAME: SEIFORT RESERVOIR
QUADRANT: SW
WEST_LONGITUDE: -109 52 30.00000
EAST_LONGITUDE: -109 48 45.00000
NORTH_LATITUDE: 47 56 15.00000
SOUTH_LATITUDE: 47 52 30.00000
PRODUCTION_DATE: 2000 6 2
RASTER_ORDER: LEFT_RIGHT/TOP_BOTTOM
BAND_ORGANIZATION: SINGLE FILE
BAND_CONTENT: BLACK&WHITE
BAND_CONTENT: UNDEFINED
BAND_CONTENT: UNDEFINED
BITS_PER_PIXEL: 8
SAMPLES_AND_LINES: 5434 7623
HORIZONTAL_DATUM: NAD83
HORIZONTAL_COORDINATE_SYSTEM: UTM
COORDINATE_ZONE: 12
HORIZONTAL_UNITS: METERS
HORIZONTAL_RESOLUTION: 1.00000
SECONDARY_HORIZONTAL_DATUM: NAD27
XY_ORIGIN: 583663.00000 5310337.00000
SECONDARY_XY_ORIGIN: 583721.83400 5310121.25100
NATION: US
NATION: "SCIENCE
STATE: MT
NW_QUAD_CORNER_XY: 584020.70800 5309966.08100
NE_QUAD_CORNER_XY: 588688.45900 5310036.02300
SE_QUAD_CORNERY_XY: 588795.30600 5303089.67100
SW_QUAD_CORNER_XY: 584121.93000 5303019.71300
SECONDARY_NW_QUAD_XY: 584023.34800 5309747.23400
SECONDARY_NE_QUAD_XY: 588691.24600 5309817.17900
SECONDARY_SE_QUAD_XY: 588798.09300 5302870.84300
SECONDARY_SW_QUAD_XY: 584124.57000 5302800.88300
RMSE_XY: 0.80000
IMAGE_SOURCE: BLACK AND WHITE FILM
SOURCE_IMAGE_ID: NAPP 9128 186
SOURCE_IMAGE_DATE: 1996 07 29
SOURCE_IMAGE_ID: NAPP 9128 185
SOURCE_IMAGE_DATE: 1996 07 29
SOURCE_DEM_DATE: 1975 00 00
AGENCY: WESTERN MAPPING CENTER (WMC)
PRODUCER: UNDEFINED
PRODUCTION_SYSTEM: GIS/MAGIC
COMPRESSION: UNDEFINED
STANDARD_VERSION: 1996 12
METADATA_DATE: 2000 06 12
DATA_FILE_SIZE: 41428816
BYTE_COUNT: 5434
