FILENAME: O4710901.NES.1080051.tif
QUADRANGLE_NAME: EAGLETON NW
QUADRANT: NE
WEST_LONGITUDE: -109 56 15.00000
EAST_LONGITUDE: -109 52 30.00000
NORTH_LATITUDE: 48 0 0.00000
SOUTH_LATITUDE: 47 56 15.00000
PRODUCTION_DATE: 2000 6 1
RASTER_ORDER: LEFT_RIGHT/TOP_BOTTOM
BAND_ORGANIZATION: SINGLE FILE
BAND_CONTENT: BLACK&WHITE
BAND_CONTENT: UNDEFINED
BAND_CONTENT: UNDEFINED
BITS_PER_PIXEL: 8
SAMPLES_AND_LINES: 5423 7619
HORIZONTAL_DATUM: NAD83
HORIZONTAL_COORDINATE_SYSTEM: UTM
COORDINATE_ZONE: 12
HORIZONTAL_UNITS: METERS
HORIZONTAL_RESOLUTION: 1.00000
SECONDARY_HORIZONTAL_DATUM: NAD27
XY_ORIGIN: 578899.00000 5317213.00000
SECONDARY_XY_ORIGIN: 578957.83200 5316997.34800
NATION: US
NATION: "SCIENCE
STATE: MT
NW_QUAD_CORNER_XY: 579257.25300 5316846.37500
NE_QUAD_CORNER_XY: 583919.38500 5316912.52100
SE_QUAD_CORNERY_XY: 584020.70800 5309966.08100
SW_QUAD_CORNER_XY: 579352.94600 5309899.91900
SECONDARY_NW_QUAD_XY: 579259.74800 5316627.51100
SECONDARY_NE_QUAD_XY: 583922.02600 5316693.66000
SECONDARY_SE_QUAD_XY: 584023.34800 5309747.23400
SECONDARY_SW_QUAD_XY: 579355.44000 5309681.07100
RMSE_XY: 0.80000
IMAGE_SOURCE: BLACK AND WHITE FILM
SOURCE_IMAGE_ID: NAPP 9128 257
SOURCE_IMAGE_DATE: 1996 07 29
SOURCE_DEM_DATE: 1975 00 00
AGENCY: WESTERN MAPPING CENTER (WMC)
PRODUCER: UNDEFINED
PRODUCTION_SYSTEM: GIS/MAGIC
COMPRESSION: UNDEFINED
STANDARD_VERSION: 1996 12
METADATA_DATE: 2000 06 12
DATA_FILE_SIZE: 41323260
BYTE_COUNT: 5423
