FILENAME: O4710901.SWS.1080054.tif
QUADRANGLE_NAME: EAGLETON NW
QUADRANT: SW
WEST_LONGITUDE: -110 0 0.00000
EAST_LONGITUDE: -109 56 15.00000
NORTH_LATITUDE: 47 56 15.00000
SOUTH_LATITUDE: 47 52 30.00000
PRODUCTION_DATE: 2000 6 1
RASTER_ORDER: LEFT_RIGHT/TOP_BOTTOM
BAND_ORGANIZATION: SINGLE FILE
BAND_CONTENT: BLACK&WHITE
BAND_CONTENT: UNDEFINED
BAND_CONTENT: UNDEFINED
BITS_PER_PIXEL: 8
SAMPLES_AND_LINES: 5423 7615
HORIZONTAL_DATUM: NAD83
HORIZONTAL_COORDINATE_SYSTEM: UTM
COORDINATE_ZONE: 12
HORIZONTAL_UNITS: METERS
HORIZONTAL_RESOLUTION: 1.00000
SECONDARY_HORIZONTAL_DATUM: NAD27
XY_ORIGIN: 574327.00000 5310200.00000
SECONDARY_XY_ORIGIN: 574385.77200 5309984.37200
NATION: US
NATION: "SCIENCE
STATE: MT
NW_QUAD_CORNER_XY: 574685.17500 5309837.53900
NE_QUAD_CORNER_XY: 579352.94600 5309899.91900
SE_QUAD_CORNERY_XY: 579448.54400 5302953.53700
SW_QUAD_CORNER_XY: 574775.14900 5302891.14400
SECONDARY_NW_QUAD_XY: 574687.52300 5309618.68900
SECONDARY_NE_QUAD_XY: 579355.44000 5309681.07100
SECONDARY_SE_QUAD_XY: 579451.03800 5302734.70500
SECONDARY_SW_QUAD_XY: 574777.49600 5302672.31000
RMSE_XY: 0.80000
IMAGE_SOURCE: BLACK AND WHITE FILM
SOURCE_IMAGE_ID: NAPP 9158 015
SOURCE_IMAGE_DATE: 1997 09 04
SOURCE_IMAGE_ID: NAPP 9158 014
SOURCE_IMAGE_DATE: 1997 09 04
SOURCE_IMAGE_ID: NAPP 9158 016
SOURCE_IMAGE_DATE: 1997 09 04
SOURCE_DEM_DATE: 1975 00 00
AGENCY: WESTERN MAPPING CENTER (WMC)
PRODUCER: UNDEFINED
PRODUCTION_SYSTEM: GIS/MAGIC
COMPRESSION: UNDEFINED
STANDARD_VERSION: 1996 12
METADATA_DATE: 2000 06 12
DATA_FILE_SIZE: 41301568
BYTE_COUNT: 5423
