BEGIN_USGS_DOQ_HEADER *
QUADRANGLE_NAME "BENCHLAND" 3.75 or 7.5-min. name*
QUADRANT SW quadrant indicator if cell size = 3.75-minutes*
WEST_LONGITUDE -110 7 30.000 signed deg min sec SDDD MM SS.SSS*
EAST_LONGITUDE -110 3 45.000 signed deg min sec SDDD MM SS.SSS*
NORTH_LATITUDE 47 3 45.000 signed deg min sec SDDD MM SS.SSS*
SOUTH_LATITUDE 47 0 0.000 signed deg min sec SDDD MM SS.SSS*
PRODUCTION_DATE 2002 12 13 yyyy mm dd*
RASTER_ORDER LEFT_RIGHT/TOP_BOTTOM video display order*
BAND_ORGANIZATION "SINGLE FILE" single file or BSQ, or BIL or BIP*
BAND_CONTENT BLACK&WHITE black&white or red green blue*
BITS_PER_PIXEL 8 radiometric resolution*
SAMPLES_AND_LINES 5490 7608 number of columns and rows*
HORIZONTAL_DATUM NAD83 primary horizontal datum*
HORIZONTAL_COORDINATE_SYSTEM UTM *
COORDINATE_ZONE 12 coordinate system zone number*
HORIZONTAL_UNITS METERS coordinate system units*
HORIZONTAL_RESOLUTION 1.00 pixel horiz. ground sample distance*
SECONDARY_HORIZONTAL_DATUM NAD27 secondary horizontal datum*
XY_ORIGIN 566086.000 5212837.000 coord. of upper left pixel pri. datum*
SECONDARY_XY_ORIGIN 566146.000 5212623.000 coord upper left pixel sec datum*
NATION US nation code*
STATE MT state fip code*
NW_QUAD_CORNER_XY 566444.584 5212480.997 XY coords. of pri. NW quad corner*
NE_QUAD_CORNER_XY 571190.597 5212535.958 XY coords. of pri. NE quad corner*
SE_QUAD_CORNER_XY 571273.760 5205590.586 XY coords. of pri. SE quad corner*
SW_QUAD_CORNER_XY 566522.202 5205535.616 XY coords. of pri. SW quad corner*
SECONDARY_NW_QUAD_XY 566446.634 5212262.446 XY coords. - sec. NW quad cor.*
SECONDARY_NE_QUAD_XY 571192.794 5212317.409 XY coords. - sec. NE quad cor.*
SECONDARY_SE_QUAD_XY 571275.957 5205372.065 XY coords. - sec. SE quad cor.*
SECONDARY_SW_QUAD_XY 566524.252 5205317.093 XY coords. - sec. SW quad cor.*
RMSE_XY 1.40 doq horiz. accuracy*
IMAGE_SOURCE "BLACK AND WHITE FILM" b&w, cir, natural color, other*
SOURCE_IMAGE_ID "NAPP 9178 301" source image id*
SOURCE_IMAGE_DATE 1997 9 4 source image date as yyyy mm dd*
SOURCE_DEM_DATE 1968 00 00 source dem date yyyy mm dd*
AGENCY "ROCKY MOUNTAIN MAPPING CENTER (RMMC)" oversight agency*
PRODUCER "ROCKY MOUNTAIN MAPPING CENTER (RMMC)" *
PRODUCTION_SYSTEM "DV2.6.4 1/00 OV2.6 6/00" production system*
STANDARD_VERSION 1996 12 version of DOQ standard*
METADATA_DATE 2002 12 13 date created or changed, yyyy mm dd*
DATA_FILE_SIZE 41773410 data set size in bytes*
BYTE_COUNT 5490 header byte count*
