BEGIN_USGS_DOQ_HEADER *
QUADRANGLE_NAME "WINDHAM" 3.75 or 7.5-min. name*
QUADRANT NE quadrant indicator if cell size = 3.75-minutes*
WEST_LONGITUDE -110 11 15.000 signed deg min sec SDDD MM SS.SSS*
EAST_LONGITUDE -110 7 30.000 signed deg min sec SDDD MM SS.SSS*
NORTH_LATITUDE 47 7 30.000 signed deg min sec SDDD MM SS.SSS*
SOUTH_LATITUDE 47 3 45.000 signed deg min sec SDDD MM SS.SSS*
PRODUCTION_DATE 2002 12 9 yyyy mm dd*
RASTER_ORDER LEFT_RIGHT/TOP_BOTTOM video display order*
BAND_ORGANIZATION "SINGLE FILE" single file or BSQ, or BIL or BIP*
BAND_CONTENT BLACK&WHITE black&white or red green blue*
BITS_PER_PIXEL 8 radiometric resolution*
SAMPLES_AND_LINES 5479 7604 number of columns and rows*
HORIZONTAL_DATUM NAD83 primary horizontal datum*
HORIZONTAL_COORDINATE_SYSTEM UTM *
COORDINATE_ZONE 12 coordinate system zone number*
HORIZONTAL_UNITS METERS coordinate system units*
HORIZONTAL_RESOLUTION 1.00 pixel horiz. ground sample distance*
SECONDARY_HORIZONTAL_DATUM NAD27 secondary horizontal datum*
XY_ORIGIN 561268.000 5219727.000 coord. of upper left pixel pri. datum*
SECONDARY_XY_ORIGIN 561327.544 5219512.650 coord upper left pixel sec datum*
NATION US nation code*
STATE MT state fip code*
NW_QUAD_CORNER_XY 561626.418 5219375.288 XY coords. of pri. NW quad corner*
NE_QUAD_CORNER_XY 566366.886 5219426.451 XY coords. of pri. NE quad corner*
SE_QUAD_CORNER_XY 566444.584 5212480.997 XY coords. of pri. SE quad corner*
SW_QUAD_CORNER_XY 561698.566 5212429.826 XY coords. of pri. SW quad corner*
SECONDARY_NW_QUAD_XY 561628.323 5219156.709 XY coords. - sec. NW quad cor.*
SECONDARY_NE_QUAD_XY 566368.937 5219207.873 XY coords. - sec. NE quad cor.*
SECONDARY_SE_QUAD_XY 566446.634 5212262.446 XY coords. - sec. SE quad cor.*
SECONDARY_SW_QUAD_XY 561700.470 5212211.273 XY coords. - sec. SW quad cor.*
RMSE_XY 1.50 doq horiz. accuracy*
IMAGE_SOURCE "BLACK AND WHITE FILM" b&w, cir, natural color, other*
SOURCE_IMAGE_ID "NAPP 9179 008" source image id*
SOURCE_IMAGE_DATE 1997 9 4 source image date as yyyy mm dd*
SOURCE_DEM_DATE 1968 00 00 source dem date yyyy mm dd*
AGENCY "ROCKY MOUNTAIN MAPPING CENTER (RMMC)" oversight agency*
PRODUCER "ROCKY MOUNTAIN MAPPING CENTER (RMMC)" *
PRODUCTION_SYSTEM "DV2.6.4 1/00 OV2.6 6/00" production system*
STANDARD_VERSION 1996 12 version of DOQ standard*
METADATA_DATE 2002 12 9 date created or changed, yyyy mm dd*
DATA_FILE_SIZE 41667795 data set size in bytes*
BYTE_COUNT 5479 header byte count*
