BEGIN_USGS_DOQ_HEADER *
QUADRANGLE_NAME "ARROW CREEK" 3.75 or 7.5-min. name*
QUADRANT SW quadrant indicator if cell size = 3.75-minutes*
WEST_LONGITUDE -110 15 0.000 signed deg min sec SDDD MM SS.SSS*
EAST_LONGITUDE -110 11 15.000 signed deg min sec SDDD MM SS.SSS*
NORTH_LATITUDE 47 18 45.000 signed deg min sec SDDD MM SS.SSS*
SOUTH_LATITUDE 47 15 0.000 signed deg min sec SDDD MM SS.SSS*
PRODUCTION_DATE 2002 12 9 yyyy mm dd*
RASTER_ORDER LEFT_RIGHT/TOP_BOTTOM video display order*
BAND_ORGANIZATION "SINGLE FILE" single file or BSQ, or BIL or BIP*
BAND_CONTENT BLACK&WHITE black&white or red green blue*
BITS_PER_PIXEL 8 radiometric resolution*
SAMPLES_AND_LINES 5457 7600 number of columns and rows*
HORIZONTAL_DATUM NAD83 primary horizontal datum*
HORIZONTAL_COORDINATE_SYSTEM UTM *
COORDINATE_ZONE 12 coordinate system zone number*
HORIZONTAL_UNITS METERS coordinate system units*
HORIZONTAL_RESOLUTION 1.00 pixel horiz. ground sample distance*
SECONDARY_HORIZONTAL_DATUM NAD27 secondary horizontal datum*
XY_ORIGIN 556327.000 5240513.000 coord. of upper left pixel pri. datum*
SECONDARY_XY_ORIGIN 556387.000 5240299.000 coord upper left pixel sec datum*
NATION US nation code*
STATE MT state fip code*
NW_QUAD_CORNER_XY 556685.745 5240164.775 XY coords. of pri. NW quad corner*
NE_QUAD_CORNER_XY 561409.533 5240212.124 XY coords. of pri. NE quad corner*
SE_QUAD_CORNER_XY 561481.902 5233266.437 XY coords. of pri. SE quad corner*
SW_QUAD_CORNER_XY 556752.547 5233219.080 XY coords. of pri. SW quad corner*
SECONDARY_NW_QUAD_XY 556687.504 5239946.117 XY coords. - sec. NW quad cor.*
SECONDARY_NE_QUAD_XY 561411.438 5239993.468 XY coords. - sec. NE quad cor.*
SECONDARY_SE_QUAD_XY 561483.807 5233047.806 XY coords. - sec. SE quad cor.*
SECONDARY_SW_QUAD_XY 556754.305 5233000.448 XY coords. - sec. SW quad cor.*
RMSE_XY 1.10 doq horiz. accuracy*
IMAGE_SOURCE "BLACK AND WHITE FILM" b&w, cir, natural color, other*
SOURCE_IMAGE_ID "NAPP 9172 150" source image id*
SOURCE_IMAGE_DATE 1997 8 23 source image date as yyyy mm dd*
SOURCE_DEM_DATE 1973 00 00 source dem date yyyy mm dd*
AGENCY "ROCKY MOUNTAIN MAPPING CENTER (RMMC)" oversight agency*
PRODUCER "ROCKY MOUNTAIN MAPPING CENTER (RMMC)" *
PRODUCTION_SYSTEM "DV2.6.4 1/00 OV2.6 6/00" production system*
STANDARD_VERSION 1996 12 version of DOQ standard*
METADATA_DATE 2002 12 9 date created or changed, yyyy mm dd*
DATA_FILE_SIZE 41478657 data set size in bytes*
BYTE_COUNT 5457 header byte count*
