FILENAME: O4711042.NES.727292.tif
QUADRANGLE_NAME: BLYTHE
QUADRANT: NE
WEST_LONGITUDE: -110 48 45.00000
EAST_LONGITUDE: -110 45 0.00000
NORTH_LATITUDE: 47 22 30.00000
SOUTH_LATITUDE: 47 18 45.00000
PRODUCTION_DATE: 1997 7 31
RASTER_ORDER: LEFT_RIGHT/TOP_BOTTOM
BAND_ORGANIZATION: SINGLE FILE
BAND_CONTENT: BLACK&WHITE
BAND_CONTENT: UNDEFINED
BAND_CONTENT: UNDEFINED
BITS_PER_PIXEL: 8
SAMPLES_AND_LINES: 5400 7563
HORIZONTAL_DATUM: NAD83
HORIZONTAL_COORDINATE_SYSTEM: UTM
COORDINATE_ZONE: 12
HORIZONTAL_UNITS: METERS
HORIZONTAL_RESOLUTION: 1.00000
SECONDARY_HORIZONTAL_DATUM: NAD27
XY_ORIGIN: 513796.27000 5247167.67000
SECONDARY_XY_ORIGIN: 513855.70800 5246952.92600
NATION: US
STATE: MT
NW_QUAD_CORNER_XY: 514154.75000 5246854.91300
NE_QUAD_CORNER_XY: 518872.99800 5246868.16800
SE_QUAD_CORNERY_XY: 518895.28600 5239922.35600
SW_QUAD_CORNER_XY: 514171.46600 5239909.09900
SECONDARY_NW_QUAD_XY: 514155.19000 5246636.22400
SECONDARY_NE_QUAD_XY: 518873.58400 5246649.47900
SECONDARY_SE_QUAD_XY: 518895.87300 5239703.69100
SECONDARY_SW_QUAD_XY: 514171.90600 5239690.43300
RMSE_XY: 1.80000
IMAGE_SOURCE: BLACK AND WHITE FILM
SOURCE_IMAGE_ID: NAPP 3857 11
SOURCE_IMAGE_DATE: 1991 8 30
SOURCE_DEM_DATE: 1997 7 31
AGENCY: WESTERN MAPPING CENTER (WMC)
PRODUCER: Nies Mapping Group
PRODUCTION_SYSTEM: INTERGRAPH- ISPM,ISIR
COMPRESSION: UNDEFINED
STANDARD_VERSION: 1996 12
METADATA_DATE: 1997 12 28
DATA_FILE_SIZE: 40845600
BYTE_COUNT: 5400
