FILENAME: O4711042.SES.727294.tif
QUADRANGLE_NAME: BLYTHE
QUADRANT: SE
WEST_LONGITUDE: -110 48 45.00000
EAST_LONGITUDE: -110 45 0.00000
NORTH_LATITUDE: 47 18 45.00000
SOUTH_LATITUDE: 47 15 0.00000
PRODUCTION_DATE: 1997 7 31
RASTER_ORDER: LEFT_RIGHT/TOP_BOTTOM
BAND_ORGANIZATION: SINGLE FILE
BAND_CONTENT: BLACK&WHITE
BAND_CONTENT: UNDEFINED
BAND_CONTENT: UNDEFINED
BITS_PER_PIXEL: 8
SAMPLES_AND_LINES: 5405 7563
HORIZONTAL_DATUM: NAD83
HORIZONTAL_COORDINATE_SYSTEM: UTM
COORDINATE_ZONE: 12
HORIZONTAL_UNITS: METERS
HORIZONTAL_RESOLUTION: 1.00000
SECONDARY_HORIZONTAL_DATUM: NAD27
XY_ORIGIN: 513813.02800 5240221.85600
SECONDARY_XY_ORIGIN: 513872.41800 5240007.26800
NATION: US
STATE: MT
NW_QUAD_CORNER_XY: 514171.46600 5239909.09900
NE_QUAD_CORNER_XY: 518895.28600 5239922.35600
SE_QUAD_CORNERY_XY: 518917.55300 5232976.62000
SW_QUAD_CORNER_XY: 514188.16600 5232963.36100
SECONDARY_NW_QUAD_XY: 514171.90600 5239690.43300
SECONDARY_NE_QUAD_XY: 518895.87300 5239703.69100
SECONDARY_SE_QUAD_XY: 518918.13900 5232757.98000
SECONDARY_SW_QUAD_XY: 514188.60600 5232744.72000
RMSE_XY: 0.90000
IMAGE_SOURCE: BLACK AND WHITE FILM
SOURCE_IMAGE_ID: NAPP 3857 9
SOURCE_IMAGE_DATE: 1991 8 30
SOURCE_DEM_DATE: 1997 7 31
AGENCY: WESTERN MAPPING CENTER (WMC)
PRODUCER: Nies Mapping Group
PRODUCTION_SYSTEM: INTERGRAPH- ISPM,ISIR
COMPRESSION: UNDEFINED
STANDARD_VERSION: 1996 12
METADATA_DATE: 1997 12 28
DATA_FILE_SIZE: 40883420
BYTE_COUNT: 5405
