FILENAME: O4711042.SWS.727295.tif
QUADRANGLE_NAME: BLYTHE
QUADRANT: SW
WEST_LONGITUDE: -110 52 30.00000
EAST_LONGITUDE: -110 48 45.00000
NORTH_LATITUDE: 47 18 45.00000
SOUTH_LATITUDE: 47 15 0.00000
PRODUCTION_DATE: 1997 7 31
RASTER_ORDER: LEFT_RIGHT/TOP_BOTTOM
BAND_ORGANIZATION: SINGLE FILE
BAND_CONTENT: BLACK&WHITE
BAND_CONTENT: UNDEFINED
BAND_CONTENT: UNDEFINED
BITS_PER_PIXEL: 8
SAMPLES_AND_LINES: 5400 7559
HORIZONTAL_DATUM: NAD83
HORIZONTAL_COORDINATE_SYSTEM: UTM
COORDINATE_ZONE: 12
HORIZONTAL_UNITS: METERS
HORIZONTAL_RESOLUTION: 1.00000
SECONDARY_HORIZONTAL_DATUM: NAD27
XY_ORIGIN: 509088.90300 5240208.59900
SECONDARY_XY_ORIGIN: 509148.45400 5239993.99300
NATION: US
STATE: MT
NW_QUAD_CORNER_XY: 509447.64500 5239899.63000
NE_QUAD_CORNER_XY: 514171.46600 5239909.09900
SE_QUAD_CORNERY_XY: 514188.16600 5232963.36100
SW_QUAD_CORNER_XY: 509458.77800 5232953.89000
SECONDARY_NW_QUAD_XY: 509447.93800 5239680.96400
SECONDARY_NE_QUAD_XY: 514171.90600 5239690.43300
SECONDARY_SE_QUAD_XY: 514188.60600 5232744.72000
SECONDARY_SW_QUAD_XY: 509459.07100 5232735.24900
RMSE_XY: 1.20000
IMAGE_SOURCE: BLACK AND WHITE FILM
SOURCE_IMAGE_ID: NAPP 3861 80
SOURCE_IMAGE_DATE: 1991 9 24
SOURCE_DEM_DATE: 1997 7 31
AGENCY: WESTERN MAPPING CENTER (WMC)
PRODUCER: Nies Mapping Group
PRODUCTION_SYSTEM: INTERGRAPH- ISPM,ISIR
COMPRESSION: UNDEFINED
STANDARD_VERSION: 1996 12
METADATA_DATE: 1997 12 28
DATA_FILE_SIZE: 40824000
BYTE_COUNT: 5400
