FILENAME: O4711041.SES.727302.tif
QUADRANGLE_NAME: ARMINGTON
QUADRANT: SE
WEST_LONGITUDE: -110 56 15.00000
EAST_LONGITUDE: -110 52 30.00000
NORTH_LATITUDE: 47 18 45.00000
SOUTH_LATITUDE: 47 15 0.00000
PRODUCTION_DATE: 1997 7 31
RASTER_ORDER: LEFT_RIGHT/TOP_BOTTOM
BAND_ORGANIZATION: SINGLE FILE
BAND_CONTENT: BLACK&WHITE
BAND_CONTENT: UNDEFINED
BAND_CONTENT: UNDEFINED
BITS_PER_PIXEL: 8
SAMPLES_AND_LINES: 5395 7556
HORIZONTAL_DATUM: NAD83
HORIZONTAL_COORDINATE_SYSTEM: UTM
COORDINATE_ZONE: 12
HORIZONTAL_UNITS: METERS
HORIZONTAL_RESOLUTION: 1.00000
SECONDARY_HORIZONTAL_DATUM: NAD27
XY_ORIGIN: 504364.77600 5240199.13000
SECONDARY_XY_ORIGIN: 504424.48700 5239984.50500
NATION: US
STATE: MT
NW_QUAD_CORNER_XY: 504723.82300 5239893.94800
NE_QUAD_CORNER_XY: 509447.64500 5239899.63000
SE_QUAD_CORNERY_XY: 509458.77800 5232953.89000
SW_QUAD_CORNER_XY: 504729.38900 5232948.20700
SECONDARY_NW_QUAD_XY: 504723.96900 5239675.28200
SECONDARY_NE_QUAD_XY: 509447.93800 5239680.96400
SECONDARY_SE_QUAD_XY: 509459.07100 5232735.24900
SECONDARY_SW_QUAD_XY: 504729.53600 5232729.56600
RMSE_XY: 2.10000
IMAGE_SOURCE: BLACK AND WHITE FILM
SOURCE_IMAGE_ID: NAPP 3855 11
SOURCE_IMAGE_DATE: 1991 8 20
SOURCE_DEM_DATE: 1997 7 31
AGENCY: WESTERN MAPPING CENTER (WMC)
PRODUCER: Nies Mapping Group
PRODUCTION_SYSTEM: INTERGRAPH- ISPM,ISIR
COMPRESSION: UNDEFINED
STANDARD_VERSION: 1996 12
METADATA_DATE: 1997 12 28
DATA_FILE_SIZE: 40770015
BYTE_COUNT: 5395
