FILENAME: O4711041.SWS.727303.tif
QUADRANGLE_NAME: ARMINGTON
QUADRANT: SW
WEST_LONGITUDE: -111 0 0.00000
EAST_LONGITUDE: -110 56 15.00000
NORTH_LATITUDE: 47 18 45.00000
SOUTH_LATITUDE: 47 15 0.00000
PRODUCTION_DATE: 1997 7 31
RASTER_ORDER: LEFT_RIGHT/TOP_BOTTOM
BAND_ORGANIZATION: SINGLE FILE
BAND_CONTENT: BLACK&WHITE
BAND_CONTENT: UNDEFINED
BAND_CONTENT: UNDEFINED
BITS_PER_PIXEL: 8
SAMPLES_AND_LINES: 5389 7552
HORIZONTAL_DATUM: NAD83
HORIZONTAL_COORDINATE_SYSTEM: UTM
COORDINATE_ZONE: 12
HORIZONTAL_UNITS: METERS
HORIZONTAL_RESOLUTION: 1.00000
SECONDARY_HORIZONTAL_DATUM: NAD27
XY_ORIGIN: 499640.65000 5240193.44800
SECONDARY_XY_ORIGIN: 499700.50600 5239978.81600
NATION: US
STATE: MT
NW_QUAD_CORNER_XY: 500000.00000 5239892.05400
NE_QUAD_CORNER_XY: 504723.82300 5239893.94800
SE_QUAD_CORNERY_XY: 504729.38900 5232948.20700
SW_QUAD_CORNER_XY: 500000.00000 5232946.31300
SECONDARY_NW_QUAD_XY: 500000.00000 5239673.38800
SECONDARY_NE_QUAD_XY: 504723.96900 5239675.28200
SECONDARY_SE_QUAD_XY: 504729.53600 5232729.56600
SECONDARY_SW_QUAD_XY: 500000.00000 5232727.67200
RMSE_XY: 1.30000
IMAGE_SOURCE: BLACK AND WHITE FILM
SOURCE_IMAGE_ID: NAPP 3854 6
SOURCE_IMAGE_DATE: 1991 8 16
SOURCE_DEM_DATE: 1997 7 31
AGENCY: WESTERN MAPPING CENTER (WMC)
PRODUCER: Nies Mapping Group
PRODUCTION_SYSTEM: INTERGRAPH- ISPM,ISIR
COMPRESSION: UNDEFINED
STANDARD_VERSION: 1996 12
METADATA_DATE: 1997 12 28
DATA_FILE_SIZE: 40703117
BYTE_COUNT: 5389
