FILENAME: O4711040.SWS.1078962.tif
QUADRANGLE_NAME: STROUF ISLAND
QUADRANT: SW
WEST_LONGITUDE: -110 7 30.00000
EAST_LONGITUDE: -110 3 45.00000
NORTH_LATITUDE: 47 26 15.00000
SOUTH_LATITUDE: 47 22 30.00000
PRODUCTION_DATE: 2000 6 4
RASTER_ORDER: LEFT_RIGHT/TOP_BOTTOM
BAND_ORGANIZATION: SINGLE FILE
BAND_CONTENT: BLACK&WHITE
BAND_CONTENT: UNDEFINED
BAND_CONTENT: UNDEFINED
BITS_PER_PIXEL: 8
SAMPLES_AND_LINES: 5456 7607
HORIZONTAL_DATUM: NAD83
HORIZONTAL_COORDINATE_SYSTEM: UTM
COORDINATE_ZONE: 12
HORIZONTAL_UNITS: METERS
HORIZONTAL_RESOLUTION: 1.00000
SECONDARY_HORIZONTAL_DATUM: NAD27
XY_ORIGIN: 565619.00000 5254510.00000
SECONDARY_XY_ORIGIN: 565678.04700 5254294.86500
NATION: US
NATION: "SCIENCE
STATE: MT
NW_QUAD_CORNER_XY: 565977.20500 5254154.83900
NE_QUAD_CORNER_XY: 570689.82900 5254209.74500
SE_QUAD_CORNERY_XY: 570773.50300 5247263.92800
SW_QUAD_CORNER_XY: 566055.30000 5247209.01200
SECONDARY_NW_QUAD_XY: 565979.25700 5253936.13700
SECONDARY_NE_QUAD_XY: 570692.02700 5253991.04500
SECONDARY_SE_QUAD_XY: 570775.70100 5247045.25200
SECONDARY_SW_QUAD_XY: 566057.35200 5246990.33400
RMSE_XY: 1.90000
IMAGE_SOURCE: BLACK AND WHITE FILM
SOURCE_IMAGE_ID: NAPP 9178 289
SOURCE_IMAGE_DATE: 1997 09 04
SOURCE_IMAGE_ID: NAPP 9179 018
SOURCE_IMAGE_DATE: 1997 09 04
SOURCE_IMAGE_ID: NAPP 9179 019
SOURCE_IMAGE_DATE: 1997 09 04
SOURCE_IMAGE_ID: NAPP 9178 288
SOURCE_IMAGE_DATE: 1997 09 04
SOURCE_IMAGE_ID: NAPP 9178 290
SOURCE_IMAGE_DATE: 1997 09 04
SOURCE_DEM_DATE: 1971 00 00
AGENCY: WESTERN MAPPING CENTER (WMC)
PRODUCER: UNDEFINED
PRODUCTION_SYSTEM: GIS/MAGIC
COMPRESSION: UNDEFINED
STANDARD_VERSION: 1996 12
METADATA_DATE: 2000 06 07
DATA_FILE_SIZE: 41509248
BYTE_COUNT: 5456
