FILENAME: O4711039.NES.1078955.tif
QUADRANGLE_NAME: POWNAL
QUADRANT: NE
WEST_LONGITUDE: -110 11 15.00000
EAST_LONGITUDE: -110 7 30.00000
NORTH_LATITUDE: 47 30 0.00000
SOUTH_LATITUDE: 47 26 15.00000
PRODUCTION_DATE: 2000 6 4
RASTER_ORDER: LEFT_RIGHT/TOP_BOTTOM
BAND_ORGANIZATION: SINGLE FILE
BAND_CONTENT: BLACK&WHITE
BAND_CONTENT: UNDEFINED
BAND_CONTENT: UNDEFINED
BITS_PER_PIXEL: 8
SAMPLES_AND_LINES: 5446 7603
HORIZONTAL_DATUM: NAD83
HORIZONTAL_COORDINATE_SYSTEM: UTM
COORDINATE_ZONE: 12
HORIZONTAL_UNITS: METERS
HORIZONTAL_RESOLUTION: 1.00000
SECONDARY_HORIZONTAL_DATUM: NAD27
XY_ORIGIN: 560833.00000 5261401.00000
SECONDARY_XY_ORIGIN: 560891.91900 5261185.75600
NATION: US
NATION: "SCIENCE
STATE: MT
NW_QUAD_CORNER_XY: 561191.98600 5261049.63000
NE_QUAD_CORNER_XY: 565899.03100 5261100.73900
SE_QUAD_CORNERY_XY: 565977.20500 5254154.83900
SW_QUAD_CORNER_XY: 561264.57500 5254103.72000
SECONDARY_NW_QUAD_XY: 561193.89200 5260830.90500
SECONDARY_NE_QUAD_XY: 565901.08400 5260882.01600
SECONDARY_SE_QUAD_XY: 565979.25700 5253936.13700
SECONDARY_SW_QUAD_XY: 561266.48100 5253885.01700
RMSE_XY: 2.30000
IMAGE_SOURCE: BLACK AND WHITE FILM
SOURCE_IMAGE_ID: NAPP 9179 020
SOURCE_IMAGE_DATE: 1997 09 04
SOURCE_IMAGE_ID: NAPP 9172 145
SOURCE_IMAGE_DATE: 1997 08 23
SOURCE_IMAGE_ID: NAPP 9179 019
SOURCE_IMAGE_DATE: 1997 09 04
SOURCE_IMAGE_ID: NAPP 9179 021
SOURCE_IMAGE_DATE: 1997 09 04
SOURCE_IMAGE_ID: NAPP 9178 286
SOURCE_IMAGE_DATE: 1997 09 04
SOURCE_DEM_DATE: 1971 00 00
AGENCY: WESTERN MAPPING CENTER (WMC)
PRODUCER: UNDEFINED
PRODUCTION_SYSTEM: GIS/MAGIC
COMPRESSION: UNDEFINED
STANDARD_VERSION: 1996 12
METADATA_DATE: 2000 06 07
DATA_FILE_SIZE: 41411384
BYTE_COUNT: 5446
