FILENAME: O4711038.NWS.1078952.tif
QUADRANGLE_NAME: JIGGS FLAT
QUADRANT: NW
WEST_LONGITUDE: -110 22 30.00000
EAST_LONGITUDE: -110 18 45.00000
NORTH_LATITUDE: 47 30 0.00000
SOUTH_LATITUDE: 47 26 15.00000
PRODUCTION_DATE: 2000 6 4
RASTER_ORDER: LEFT_RIGHT/TOP_BOTTOM
BAND_ORGANIZATION: SINGLE FILE
BAND_CONTENT: BLACK&WHITE
BAND_CONTENT: UNDEFINED
BAND_CONTENT: UNDEFINED
BITS_PER_PIXEL: 8
SAMPLES_AND_LINES: 5429 7592
HORIZONTAL_DATUM: NAD83
HORIZONTAL_COORDINATE_SYSTEM: UTM
COORDINATE_ZONE: 12
HORIZONTAL_UNITS: METERS
HORIZONTAL_RESOLUTION: 1.00000
SECONDARY_HORIZONTAL_DATUM: NAD27
XY_ORIGIN: 546712.00000 5261259.00000
SECONDARY_XY_ORIGIN: 546770.87200 5261043.91300
NATION: US
NATION: "SCIENCE
STATE: MT
NW_QUAD_CORNER_XY: 547070.81400 5260919.01900
NE_QUAD_CORNER_XY: 551777.87600 5260958.76900
SE_QUAD_CORNERY_XY: 551839.29700 5254012.84300
SW_QUAD_CORNER_XY: 547126.65000 5253973.08400
SECONDARY_NW_QUAD_XY: 547072.28000 5260700.29000
SECONDARY_NE_QUAD_XY: 551779.48900 5260740.04200
SECONDARY_SE_QUAD_XY: 551840.91000 5253794.13700
SECONDARY_SW_QUAD_XY: 547128.11600 5253754.37800
RMSE_XY: 1.80000
IMAGE_SOURCE: BLACK AND WHITE FILM
SOURCE_IMAGE_ID: NAPP 9185 202
SOURCE_IMAGE_DATE: 1998 07 20
SOURCE_IMAGE_ID: NAPP 9185 203
SOURCE_IMAGE_DATE: 1998 07 20
SOURCE_IMAGE_ID: NAPP 9185 201
SOURCE_IMAGE_DATE: 1998 07 20
SOURCE_IMAGE_ID: NAPP 9185 199
SOURCE_IMAGE_DATE: 1998 07 20
SOURCE_DEM_DATE: 1993 00 00
AGENCY: WESTERN MAPPING CENTER (WMC)
PRODUCER: UNDEFINED
PRODUCTION_SYSTEM: GIS/MAGIC
COMPRESSION: UNDEFINED
STANDARD_VERSION: 1996 12
METADATA_DATE: 2000 06 07
DATA_FILE_SIZE: 41222397
BYTE_COUNT: 5429
