FILENAME: O4711038.SES.1078953.tif
QUADRANGLE_NAME: JIGGS FLAT
QUADRANT: SE
WEST_LONGITUDE: -110 18 45.00000
EAST_LONGITUDE: -110 15 0.00000
NORTH_LATITUDE: 47 26 15.00000
SOUTH_LATITUDE: 47 22 30.00000
PRODUCTION_DATE: 2000 6 4
RASTER_ORDER: LEFT_RIGHT/TOP_BOTTOM
BAND_ORGANIZATION: SINGLE FILE
BAND_CONTENT: BLACK&WHITE
BAND_CONTENT: UNDEFINED
BAND_CONTENT: UNDEFINED
BITS_PER_PIXEL: 8
SAMPLES_AND_LINES: 5440 7596
HORIZONTAL_DATUM: NAD83
HORIZONTAL_COORDINATE_SYSTEM: UTM
COORDINATE_ZONE: 12
HORIZONTAL_UNITS: METERS
HORIZONTAL_RESOLUTION: 1.00000
SECONDARY_HORIZONTAL_DATUM: NAD27
XY_ORIGIN: 551480.00000 5254357.00000
SECONDARY_XY_ORIGIN: 551539.01600 5254142.00000
NATION: US
NATION: "SCIENCE
STATE: MT
NW_QUAD_CORNER_XY: 551839.29700 5254012.84300
NE_QUAD_CORNER_XY: 556551.93900 5254056.38800
SE_QUAD_CORNERY_XY: 556618.87600 5247110.54400
SW_QUAD_CORNER_XY: 551900.65600 5247066.99100
SECONDARY_NW_QUAD_XY: 551840.91000 5253794.13700
SECONDARY_NE_QUAD_XY: 556553.69800 5253837.68300
SECONDARY_SE_QUAD_XY: 556620.63500 5246891.86200
SECONDARY_SW_QUAD_XY: 551902.26800 5246848.30800
RMSE_XY: 1.20000
IMAGE_SOURCE: BLACK AND WHITE FILM
SOURCE_IMAGE_ID: NAPP 9185 197
SOURCE_IMAGE_DATE: 1998 07 20
SOURCE_IMAGE_ID: NAPP 9185 203
SOURCE_IMAGE_DATE: 1998 07 20
SOURCE_IMAGE_ID: NAPP 9185 198
SOURCE_IMAGE_DATE: 1998 07 20
SOURCE_IMAGE_ID: NAPP 9185 196
SOURCE_IMAGE_DATE: 1998 07 20
SOURCE_IMAGE_ID: NAPP 9172 146
SOURCE_IMAGE_DATE: 1997 08 23
SOURCE_DEM_DATE: 1993 00 00
AGENCY: WESTERN MAPPING CENTER (WMC)
PRODUCER: UNDEFINED
PRODUCTION_SYSTEM: GIS/MAGIC
COMPRESSION: UNDEFINED
STANDARD_VERSION: 1996 12
METADATA_DATE: 2000 06 07
DATA_FILE_SIZE: 41327680
BYTE_COUNT: 5440
