FILENAME: O4711037.NES.1078947.tif
QUADRANGLE_NAME: PALISADE BUTTE
QUADRANT: NE
WEST_LONGITUDE: -110 26 15.00000
EAST_LONGITUDE: -110 22 30.00000
NORTH_LATITUDE: 47 30 0.00000
SOUTH_LATITUDE: 47 26 15.00000
PRODUCTION_DATE: 2000 6 4
RASTER_ORDER: LEFT_RIGHT/TOP_BOTTOM
BAND_ORGANIZATION: SINGLE FILE
BAND_CONTENT: BLACK&WHITE
BAND_CONTENT: UNDEFINED
BAND_CONTENT: UNDEFINED
BITS_PER_PIXEL: 8
SAMPLES_AND_LINES: 5423 7589
HORIZONTAL_DATUM: NAD83
HORIZONTAL_COORDINATE_SYSTEM: UTM
COORDINATE_ZONE: 12
HORIZONTAL_UNITS: METERS
HORIZONTAL_RESOLUTION: 1.00000
SECONDARY_HORIZONTAL_DATUM: NAD27
XY_ORIGIN: 542005.00000 5261220.00000
SECONDARY_XY_ORIGIN: 542063.85800 5261004.95800
NATION: US
NATION: "SCIENCE
STATE: MT
NW_QUAD_CORNER_XY: 542363.74600 5260883.05400
NE_QUAD_CORNER_XY: 547070.81400 5260919.01900
SE_QUAD_CORNERY_XY: 547126.65000 5253973.08400
SW_QUAD_CORNER_XY: 542413.99900 5253937.11300
SECONDARY_NW_QUAD_XY: 542365.06500 5260664.32400
SECONDARY_NE_QUAD_XY: 547072.28000 5260700.29000
SECONDARY_SE_QUAD_XY: 547128.11600 5253754.37800
SECONDARY_SW_QUAD_XY: 542415.31800 5253718.40500
RMSE_XY: 2.30000
IMAGE_SOURCE: BLACK AND WHITE FILM
SOURCE_IMAGE_ID: NAPP 9177 169
SOURCE_IMAGE_DATE: 1997 09 04
SOURCE_IMAGE_ID: NAPP 11005 068
SOURCE_IMAGE_DATE: 1998 07 20
SOURCE_IMAGE_ID: NAPP 11005 067
SOURCE_IMAGE_DATE: 1998 07 20
SOURCE_IMAGE_ID: NAPP 9184 017
SOURCE_IMAGE_DATE: 1997 09 23
SOURCE_IMAGE_ID: NAPP 9184 015
SOURCE_IMAGE_DATE: 1997 09 23
SOURCE_DEM_DATE: 1971 00 00
AGENCY: WESTERN MAPPING CENTER (WMC)
PRODUCER: UNDEFINED
PRODUCTION_SYSTEM: GIS/MAGIC
COMPRESSION: UNDEFINED
STANDARD_VERSION: 1996 12
METADATA_DATE: 2000 06 07
DATA_FILE_SIZE: 41160570
BYTE_COUNT: 5423
