FILENAME: O4711037.SWS.1078950.tif
QUADRANGLE_NAME: PALISADE BUTTE
QUADRANT: SW
WEST_LONGITUDE: -110 30 0.00000
EAST_LONGITUDE: -110 26 15.00000
NORTH_LATITUDE: 47 26 15.00000
SOUTH_LATITUDE: 47 22 30.00000
PRODUCTION_DATE: 2000 6 4
RASTER_ORDER: LEFT_RIGHT/TOP_BOTTOM
BAND_ORGANIZATION: SINGLE FILE
BAND_CONTENT: BLACK&WHITE
BAND_CONTENT: UNDEFINED
BAND_CONTENT: UNDEFINED
BITS_PER_PIXEL: 8
SAMPLES_AND_LINES: 5424 7585
HORIZONTAL_DATUM: NAD83
HORIZONTAL_COORDINATE_SYSTEM: UTM
COORDINATE_ZONE: 12
HORIZONTAL_UNITS: METERS
HORIZONTAL_RESOLUTION: 1.00000
SECONDARY_HORIZONTAL_DATUM: NAD27
XY_ORIGIN: 537342.00000 5254238.00000
SECONDARY_XY_ORIGIN: 537400.96700 5254023.13700
NATION: US
NATION: "SCIENCE
STATE: MT
NW_QUAD_CORNER_XY: 537701.34300 5253904.92800
NE_QUAD_CORNER_XY: 542413.99900 5253937.11300
SE_QUAD_CORNERY_XY: 542464.20000 5246991.24700
SW_QUAD_CORNER_XY: 537745.96600 5246959.05700
SECONDARY_NW_QUAD_XY: 537702.51500 5253686.21900
SECONDARY_NE_QUAD_XY: 542415.31800 5253718.40500
SECONDARY_SE_QUAD_XY: 542465.51900 5246772.56200
SECONDARY_SW_QUAD_XY: 537747.13900 5246740.37100
RMSE_XY: 1.20000
IMAGE_SOURCE: BLACK AND WHITE FILM
SOURCE_IMAGE_ID: NAPP 11005 070
SOURCE_IMAGE_DATE: 1998 07 20
SOURCE_IMAGE_ID: NAPP 11005 069
SOURCE_IMAGE_DATE: 1998 07 20
SOURCE_IMAGE_ID: NAPP 11005 071
SOURCE_IMAGE_DATE: 1998 07 20
SOURCE_IMAGE_ID: NAPP 9184 018
SOURCE_IMAGE_DATE: 1997 09 23
SOURCE_DEM_DATE: 1971 00 00
AGENCY: WESTERN MAPPING CENTER (WMC)
PRODUCER: UNDEFINED
PRODUCTION_SYSTEM: GIS/MAGIC
COMPRESSION: UNDEFINED
STANDARD_VERSION: 1996 12
METADATA_DATE: 2000 06 07
DATA_FILE_SIZE: 41146464
BYTE_COUNT: 5424
