FILENAME: O4711035.NES.1078939.tif
QUADRANGLE_NAME: HIGHWOOD BALDY
QUADRANT: NE
WEST_LONGITUDE: -110 41 15.00000
EAST_LONGITUDE: -110 37 30.00000
NORTH_LATITUDE: 47 30 0.00000
SOUTH_LATITUDE: 47 26 15.00000
PRODUCTION_DATE: 2000 6 4
RASTER_ORDER: LEFT_RIGHT/TOP_BOTTOM
BAND_ORGANIZATION: SINGLE FILE
BAND_CONTENT: BLACK&WHITE
BAND_CONTENT: UNDEFINED
BAND_CONTENT: UNDEFINED
BITS_PER_PIXEL: 8
SAMPLES_AND_LINES: 5402 7573
HORIZONTAL_DATUM: NAD83
HORIZONTAL_COORDINATE_SYSTEM: UTM
COORDINATE_ZONE: 12
HORIZONTAL_UNITS: METERS
HORIZONTAL_RESOLUTION: 1.00000
SECONDARY_HORIZONTAL_DATUM: NAD27
XY_ORIGIN: 523176.00000 5261098.00000
SECONDARY_XY_ORIGIN: 523235.06400 5260883.02900
NATION: US
NATION: "SCIENCE
STATE: MT
NW_QUAD_CORNER_XY: 523535.43700 5260777.05400
NE_QUAD_CORNER_XY: 528242.51900 5260797.87500
SE_QUAD_CORNERY_XY: 528276.02000 5253851.91800
SW_QUAD_CORNER_XY: 523563.35400 5253831.09300
SECONDARY_NW_QUAD_XY: 523536.17000 5260558.32000
SECONDARY_NE_QUAD_XY: 528243.39800 5260579.14200
SECONDARY_SE_QUAD_XY: 528276.90000 5253633.20800
SECONDARY_SW_QUAD_XY: 523564.08700 5253612.38200
RMSE_XY: 2.10000
IMAGE_SOURCE: BLACK AND WHITE FILM
SOURCE_IMAGE_ID: NAPP 9182 130
SOURCE_IMAGE_DATE: 1997 09 09
SOURCE_IMAGE_ID: NAPP 9183 095
SOURCE_IMAGE_DATE: 1997 09 09
SOURCE_IMAGE_ID: NAPP 9183 096
SOURCE_IMAGE_DATE: 1997 09 09
SOURCE_IMAGE_ID: NAPP 9183 010
SOURCE_IMAGE_DATE: 1997 09 09
SOURCE_IMAGE_ID: NAPP 9167 165
SOURCE_IMAGE_DATE: 1996 08 26
SOURCE_DEM_DATE: 1971 00 00
AGENCY: WESTERN MAPPING CENTER (WMC)
PRODUCER: UNDEFINED
PRODUCTION_SYSTEM: GIS/MAGIC
COMPRESSION: UNDEFINED
STANDARD_VERSION: 1996 12
METADATA_DATE: 2000 06 07
DATA_FILE_SIZE: 40914748
BYTE_COUNT: 5402
