FILENAME: O4711034.NES.727288.tif
QUADRANGLE_NAME: BELT NE
QUADRANT: NE
WEST_LONGITUDE: -110 48 45.00000
EAST_LONGITUDE: -110 45 0.00000
NORTH_LATITUDE: 47 30 0.00000
SOUTH_LATITUDE: 47 26 15.00000
PRODUCTION_DATE: 1997 7 31
RASTER_ORDER: LEFT_RIGHT/TOP_BOTTOM
BAND_ORGANIZATION: SINGLE FILE
BAND_CONTENT: BLACK&WHITE
BAND_CONTENT: UNDEFINED
BAND_CONTENT: UNDEFINED
BITS_PER_PIXEL: 8
SAMPLES_AND_LINES: 5388 7563
HORIZONTAL_DATUM: NAD83
HORIZONTAL_COORDINATE_SYSTEM: UTM
COORDINATE_ZONE: 12
HORIZONTAL_UNITS: METERS
HORIZONTAL_RESOLUTION: 1.00000
SECONDARY_HORIZONTAL_DATUM: NAD27
XY_ORIGIN: 513762.69800 5261059.51900
SECONDARY_XY_ORIGIN: 513822.21700 5260844.47300
NATION: US
STATE: MT
NW_QUAD_CORNER_XY: 514121.26600 5260746.76900
NE_QUAD_CORNER_XY: 518828.35200 5260760.01900
SE_QUAD_CORNERY_XY: 518850.68600 5253814.05500
SW_QUAD_CORNER_XY: 514138.01600 5253800.80300
SECONDARY_NW_QUAD_XY: 514121.70600 5260528.03500
SECONDARY_NE_QUAD_XY: 518828.93900 5260541.28500
SECONDARY_SE_QUAD_XY: 518851.27300 5253595.34400
SECONDARY_SW_QUAD_XY: 514138.45600 5253582.09100
RMSE_XY: 1.40000
IMAGE_SOURCE: BLACK AND WHITE FILM
SOURCE_IMAGE_ID: NAPP 3857 15
SOURCE_IMAGE_DATE: 1991 8 30
SOURCE_DEM_DATE: 1997 7 31
AGENCY: WESTERN MAPPING CENTER (WMC)
PRODUCER: Nies Mapping Group
PRODUCTION_SYSTEM: INTERGRAPH- ISPM,ISIR
COMPRESSION: UNDEFINED
STANDARD_VERSION: 1996 12
METADATA_DATE: 1997 12 28
DATA_FILE_SIZE: 40754832
BYTE_COUNT: 5388
