FILENAME: O4711034.NWS.727289.tif
QUADRANGLE_NAME: BELT NE
QUADRANT: NW
WEST_LONGITUDE: -110 52 30.00000
EAST_LONGITUDE: -110 48 45.00000
NORTH_LATITUDE: 47 30 0.00000
SOUTH_LATITUDE: 47 26 15.00000
PRODUCTION_DATE: 1997 7 31
RASTER_ORDER: LEFT_RIGHT/TOP_BOTTOM
BAND_ORGANIZATION: SINGLE FILE
BAND_CONTENT: BLACK&WHITE
BAND_CONTENT: UNDEFINED
BAND_CONTENT: UNDEFINED
BITS_PER_PIXEL: 8
SAMPLES_AND_LINES: 5383 7559
HORIZONTAL_DATUM: NAD83
HORIZONTAL_COORDINATE_SYSTEM: UTM
COORDINATE_ZONE: 12
HORIZONTAL_UNITS: METERS
HORIZONTAL_RESOLUTION: 1.00000
SECONDARY_HORIZONTAL_DATUM: NAD27
XY_ORIGIN: 509055.09700 5261046.26900
SECONDARY_XY_ORIGIN: 509114.97900 5260831.13900
NATION: US
STATE: MT
NW_QUAD_CORNER_XY: 509414.17800 5260737.30500
NE_QUAD_CORNER_XY: 514121.26600 5260746.76900
SE_QUAD_CORNERY_XY: 514138.01600 5253800.80300
SW_QUAD_CORNER_XY: 509425.34500 5253791.33700
SECONDARY_NW_QUAD_XY: 509414.47100 5260518.57000
SECONDARY_NE_QUAD_XY: 514121.70600 5260528.03500
SECONDARY_SE_QUAD_XY: 514138.45600 5253582.09100
SECONDARY_SW_QUAD_XY: 509425.63800 5253572.62500
RMSE_XY: 1.20000
IMAGE_SOURCE: BLACK AND WHITE FILM
SOURCE_IMAGE_ID: NAPP 3861 74
SOURCE_IMAGE_DATE: 1991 9 24
SOURCE_DEM_DATE: 1997 7 31
AGENCY: WESTERN MAPPING CENTER (WMC)
PRODUCER: Nies Mapping Group
PRODUCTION_SYSTEM: INTERGRAPH- ISPM,ISIR
COMPRESSION: UNDEFINED
STANDARD_VERSION: 1996 12
METADATA_DATE: 1997 12 28
DATA_FILE_SIZE: 40695480
BYTE_COUNT: 5383
