FILENAME: O4711034.SWS.727291.tif
QUADRANGLE_NAME: BELT NE
QUADRANT: SW
WEST_LONGITUDE: -110 52 30.00000
EAST_LONGITUDE: -110 48 45.00000
NORTH_LATITUDE: 47 26 15.00000
SOUTH_LATITUDE: 47 22 30.00000
PRODUCTION_DATE: 1997 7 31
RASTER_ORDER: LEFT_RIGHT/TOP_BOTTOM
BAND_ORGANIZATION: SINGLE FILE
BAND_CONTENT: BLACK&WHITE
BAND_CONTENT: UNDEFINED
BAND_CONTENT: UNDEFINED
BITS_PER_PIXEL: 8
SAMPLES_AND_LINES: 5389 7559
HORIZONTAL_DATUM: NAD83
HORIZONTAL_COORDINATE_SYSTEM: UTM
COORDINATE_ZONE: 12
HORIZONTAL_UNITS: METERS
HORIZONTAL_RESOLUTION: 1.00000
SECONDARY_HORIZONTAL_DATUM: NAD27
XY_ORIGIN: 509066.37700 5254100.30300
SECONDARY_XY_ORIGIN: 509126.16200 5253885.34100
NATION: US
STATE: MT
NW_QUAD_CORNER_XY: 509425.34500 5253791.33700
NE_QUAD_CORNER_XY: 514138.01600 5253800.80300
SE_QUAD_CORNERY_XY: 514154.75000 5246854.91300
SW_QUAD_CORNER_XY: 509436.50100 5246845.44500
SECONDARY_NW_QUAD_XY: 509425.63800 5253572.62500
SECONDARY_NE_QUAD_XY: 514138.45600 5253582.09100
SECONDARY_SE_QUAD_XY: 514155.19000 5246636.22400
SECONDARY_SW_QUAD_XY: 509436.79400 5246626.75600
RMSE_XY: 1.40000
IMAGE_SOURCE: BLACK AND WHITE FILM
SOURCE_IMAGE_ID: NAPP 3861 76
SOURCE_IMAGE_DATE: 1991 9 24
SOURCE_DEM_DATE: 1997 7 31
AGENCY: WESTERN MAPPING CENTER (WMC)
PRODUCER: Nies Mapping Group
PRODUCTION_SYSTEM: INTERGRAPH- ISPM,ISIR
COMPRESSION: UNDEFINED
STANDARD_VERSION: 1996 12
METADATA_DATE: 1997 12 28
DATA_FILE_SIZE: 40740840
BYTE_COUNT: 5389
