FILENAME: O4711033.NES.727296.tif
QUADRANGLE_NAME: BELT
QUADRANT: NE
WEST_LONGITUDE: -110 56 15.00000
EAST_LONGITUDE: -110 52 30.00000
NORTH_LATITUDE: 47 30 0.00000
SOUTH_LATITUDE: 47 26 15.00000
PRODUCTION_DATE: 1997 8 4
RASTER_ORDER: LEFT_RIGHT/TOP_BOTTOM
BAND_ORGANIZATION: SINGLE FILE
BAND_CONTENT: BLACK&WHITE
BAND_CONTENT: UNDEFINED
BAND_CONTENT: UNDEFINED
BITS_PER_PIXEL: 8
SAMPLES_AND_LINES: 5378 7555
HORIZONTAL_DATUM: NAD83
HORIZONTAL_COORDINATE_SYSTEM: UTM
COORDINATE_ZONE: 12
HORIZONTAL_UNITS: METERS
HORIZONTAL_RESOLUTION: 1.00000
SECONDARY_HORIZONTAL_DATUM: NAD27
XY_ORIGIN: 504347.49700 5261036.80500
SECONDARY_XY_ORIGIN: 504407.74100 5260821.59100
NATION: US
STATE: MT
NW_QUAD_CORNER_XY: 504707.08900 5260731.62600
NE_QUAD_CORNER_XY: 509414.17800 5260737.30500
SE_QUAD_CORNERY_XY: 509425.34500 5253791.33700
SW_QUAD_CORNER_XY: 504712.67300 5253785.65800
SECONDARY_NW_QUAD_XY: 504707.23600 5260512.89200
SECONDARY_NE_QUAD_XY: 509414.47100 5260518.57000
SECONDARY_SE_QUAD_XY: 509425.63800 5253572.62500
SECONDARY_SW_QUAD_XY: 504712.81900 5253566.94500
RMSE_XY: 2.90000
IMAGE_SOURCE: BLACK AND WHITE FILM
SOURCE_IMAGE_ID: NAPP 3855 17
SOURCE_IMAGE_DATE: 1991 8 20
SOURCE_DEM_DATE: 1997 8 4
AGENCY: WESTERN MAPPING CENTER (WMC)
PRODUCER: Nies Mapping Group
PRODUCTION_SYSTEM: INTERGRAPH- ISPM,ISIR
COMPRESSION: UNDEFINED
STANDARD_VERSION: 1996 12
METADATA_DATE: 1997 12 28
DATA_FILE_SIZE: 40636168
BYTE_COUNT: 5378
