FILENAME: O4711033.SWS.727299.tif
QUADRANGLE_NAME: BELT
QUADRANT: SW
WEST_LONGITUDE: -111 0 0.00000
EAST_LONGITUDE: -110 56 15.00000
NORTH_LATITUDE: 47 26 15.00000
SOUTH_LATITUDE: 47 22 30.00000
PRODUCTION_DATE: 1997 8 4
RASTER_ORDER: LEFT_RIGHT/TOP_BOTTOM
BAND_ORGANIZATION: SINGLE FILE
BAND_CONTENT: BLACK&WHITE
BAND_CONTENT: UNDEFINED
BAND_CONTENT: UNDEFINED
BITS_PER_PIXEL: 8
SAMPLES_AND_LINES: 5379 7552
HORIZONTAL_DATUM: NAD83
HORIZONTAL_COORDINATE_SYSTEM: UTM
COORDINATE_ZONE: 12
HORIZONTAL_UNITS: METERS
HORIZONTAL_RESOLUTION: 1.00000
SECONDARY_HORIZONTAL_DATUM: NAD27
XY_ORIGIN: 499640.14600 5254085.15800
SECONDARY_XY_ORIGIN: 499700.50700 5253870.08700
NATION: US
STATE: MT
NW_QUAD_CORNER_XY: 500000.00000 5253783.76400
NE_QUAD_CORNER_XY: 504712.67300 5253785.65800
SE_QUAD_CORNERY_XY: 504718.25100 5246839.76500
SW_QUAD_CORNER_XY: 500000.00000 5246837.87100
SECONDARY_NW_QUAD_XY: 500000.00000 5253565.05200
SECONDARY_NE_QUAD_XY: 504712.81900 5253566.94500
SECONDARY_SE_QUAD_XY: 504718.39700 5246621.07500
SECONDARY_SW_QUAD_XY: 500000.00000 5246619.18100
RMSE_XY: 1.10000
IMAGE_SOURCE: BLACK AND WHITE FILM
SOURCE_IMAGE_ID: NAPP 3854 10
SOURCE_IMAGE_DATE: 1991 8 16
SOURCE_DEM_DATE: 1997 8 4
AGENCY: WESTERN MAPPING CENTER (WMC)
PRODUCER: Nies Mapping Group
PRODUCTION_SYSTEM: INTERGRAPH- ISPM,ISIR
COMPRESSION: UNDEFINED
STANDARD_VERSION: 1996 12
METADATA_DATE: 1997 12 28
DATA_FILE_SIZE: 40627587
BYTE_COUNT: 5379
