FILENAME: O4711032.NES.1080043.tif
QUADRANGLE_NAME: SQUARE BUTTE SE
QUADRANT: NE
WEST_LONGITUDE: -110 3 45.00000
EAST_LONGITUDE: -110 0 0.00000
NORTH_LATITUDE: 47 37 30.00000
SOUTH_LATITUDE: 47 33 45.00000
PRODUCTION_DATE: 2000 5 12
RASTER_ORDER: LEFT_RIGHT/TOP_BOTTOM
BAND_ORGANIZATION: SINGLE FILE
BAND_CONTENT: BLACK&WHITE
BAND_CONTENT: UNDEFINED
BAND_CONTENT: UNDEFINED
BITS_PER_PIXEL: 8
SAMPLES_AND_LINES: 5445 7611
HORIZONTAL_DATUM: NAD83
HORIZONTAL_COORDINATE_SYSTEM: UTM
COORDINATE_ZONE: 12
HORIZONTAL_UNITS: METERS
HORIZONTAL_RESOLUTION: 1.00000
SECONDARY_HORIZONTAL_DATUM: NAD27
XY_ORIGIN: 570080.00000 5275407.00000
SECONDARY_XY_ORIGIN: 570138.78100 5275191.47300
NATION: US
NATION: "SCIENCE
STATE: MT
NW_QUAD_CORNER_XY: 570438.29900 5275047.63800
NE_QUAD_CORNER_XY: 575134.14400 5275106.29800
SE_QUAD_CORNERY_XY: 575223.66800 5268160.27100
SW_QUAD_CORNER_XY: 570522.22700 5268101.60000
SECONDARY_NW_QUAD_XY: 570440.49900 5274828.87500
SECONDARY_NE_QUAD_XY: 575136.49000 5274887.53700
SECONDARY_SE_QUAD_XY: 575226.01400 5267941.53000
SECONDARY_SW_QUAD_XY: 570524.42600 5267882.85700
RMSE_XY: 1.30000
IMAGE_SOURCE: BLACK AND WHITE FILM
SOURCE_IMAGE_ID: NAPP 9178 190
SOURCE_IMAGE_DATE: 1997 09 04
SOURCE_DEM_DATE: 1971 00 00
AGENCY: WESTERN MAPPING CENTER (WMC)
PRODUCER: UNDEFINED
PRODUCTION_SYSTEM: GIS/MAGIC
COMPRESSION: UNDEFINED
STANDARD_VERSION: 1996 12
METADATA_DATE: 2000 06 12
DATA_FILE_SIZE: 41447340
BYTE_COUNT: 5445
