FILENAME: O4711032.NWS.1080044.tif
QUADRANGLE_NAME: SQUARE BUTTE SE
QUADRANT: NW
WEST_LONGITUDE: -110 7 30.00000
EAST_LONGITUDE: -110 3 45.00000
NORTH_LATITUDE: 47 37 30.00000
SOUTH_LATITUDE: 47 33 45.00000
PRODUCTION_DATE: 2000 5 12
RASTER_ORDER: LEFT_RIGHT/TOP_BOTTOM
BAND_ORGANIZATION: SINGLE FILE
BAND_CONTENT: BLACK&WHITE
BAND_CONTENT: UNDEFINED
BAND_CONTENT: UNDEFINED
BITS_PER_PIXEL: 8
SAMPLES_AND_LINES: 5440 7607
HORIZONTAL_DATUM: NAD83
HORIZONTAL_COORDINATE_SYSTEM: UTM
COORDINATE_ZONE: 12
HORIZONTAL_UNITS: METERS
HORIZONTAL_RESOLUTION: 1.00000
SECONDARY_HORIZONTAL_DATUM: NAD27
XY_ORIGIN: 565384.00000 5275348.00000
SECONDARY_XY_ORIGIN: 565442.75000 5275132.54000
NATION: US
NATION: "SCIENCE
STATE: MT
NW_QUAD_CORNER_XY: 565742.44700 5274992.76300
NE_QUAD_CORNER_XY: 570438.29900 5275047.63800
SE_QUAD_CORNERY_XY: 570522.22700 5268101.60000
SW_QUAD_CORNER_XY: 565820.77900 5268046.71400
SECONDARY_NW_QUAD_XY: 565744.50000 5274773.99900
SECONDARY_NE_QUAD_XY: 570440.49900 5274828.87500
SECONDARY_SE_QUAD_XY: 570524.42600 5267882.85700
SECONDARY_SW_QUAD_XY: 565822.83100 5267827.97000
RMSE_XY: 0.90000
IMAGE_SOURCE: BLACK AND WHITE FILM
SOURCE_IMAGE_ID: NAPP 9178 283
SOURCE_IMAGE_DATE: 1997 09 04
SOURCE_DEM_DATE: 1971 00 00
AGENCY: WESTERN MAPPING CENTER (WMC)
PRODUCER: UNDEFINED
PRODUCTION_SYSTEM: GIS/MAGIC
COMPRESSION: UNDEFINED
STANDARD_VERSION: 1996 12
METADATA_DATE: 2000 06 12
DATA_FILE_SIZE: 41387520
BYTE_COUNT: 5440
