FILENAME: O4711032.SES.1080045.tif
QUADRANGLE_NAME: SQUARE BUTTE SE
QUADRANT: SE
WEST_LONGITUDE: -110 3 45.00000
EAST_LONGITUDE: -110 0 0.00000
NORTH_LATITUDE: 47 33 45.00000
SOUTH_LATITUDE: 47 30 0.00000
PRODUCTION_DATE: 2000 5 12
RASTER_ORDER: LEFT_RIGHT/TOP_BOTTOM
BAND_ORGANIZATION: SINGLE FILE
BAND_CONTENT: BLACK&WHITE
BAND_CONTENT: UNDEFINED
BAND_CONTENT: UNDEFINED
BITS_PER_PIXEL: 8
SAMPLES_AND_LINES: 5451 7611
HORIZONTAL_DATUM: NAD83
HORIZONTAL_COORDINATE_SYSTEM: UTM
COORDINATE_ZONE: 12
HORIZONTAL_UNITS: METERS
HORIZONTAL_RESOLUTION: 1.00000
SECONDARY_HORIZONTAL_DATUM: NAD27
XY_ORIGIN: 570164.00000 5268461.00000
SECONDARY_XY_ORIGIN: 570222.86500 5268245.55800
NATION: US
NATION: "SCIENCE
STATE: MT
NW_QUAD_CORNER_XY: 570522.22700 5268101.60000
NE_QUAD_CORNER_XY: 575223.66800 5268160.27100
SE_QUAD_CORNERY_XY: 575313.10200 5261214.31800
SW_QUAD_CORNER_XY: 570606.07000 5261155.63500
SECONDARY_NW_QUAD_XY: 570524.42600 5267882.85700
SECONDARY_NE_QUAD_XY: 575226.01400 5267941.53000
SECONDARY_SE_QUAD_XY: 575315.44700 5260995.59800
SECONDARY_SW_QUAD_XY: 570608.26900 5260936.91400
RMSE_XY: 1.40000
IMAGE_SOURCE: BLACK AND WHITE FILM
SOURCE_IMAGE_ID: NAPP 9178 188
SOURCE_IMAGE_DATE: 1997 09 04
SOURCE_IMAGE_ID: NAPP 9178 187
SOURCE_IMAGE_DATE: 1997 09 04
SOURCE_IMAGE_ID: NAPP 9160 014
SOURCE_IMAGE_DATE: 1997 09 23
SOURCE_IMAGE_ID: NAPP 9160 015
SOURCE_IMAGE_DATE: 1997 09 23
SOURCE_DEM_DATE: 1971 00 00
AGENCY: WESTERN MAPPING CENTER (WMC)
PRODUCER: UNDEFINED
PRODUCTION_SYSTEM: GIS/MAGIC
COMPRESSION: UNDEFINED
STANDARD_VERSION: 1996 12
METADATA_DATE: 2000 06 12
DATA_FILE_SIZE: 41493012
BYTE_COUNT: 5451
