FILENAME: O4711031.NES.1080015.tif
QUADRANGLE_NAME: SQUARE BUTTE
QUADRANT: NE
WEST_LONGITUDE: -110 11 15.00000
EAST_LONGITUDE: -110 7 30.00000
NORTH_LATITUDE: 47 37 30.00000
SOUTH_LATITUDE: 47 33 45.00000
PRODUCTION_DATE: 2000 5 12
RASTER_ORDER: LEFT_RIGHT/TOP_BOTTOM
BAND_ORGANIZATION: SINGLE FILE
BAND_CONTENT: BLACK&WHITE
BAND_CONTENT: UNDEFINED
BAND_CONTENT: UNDEFINED
BITS_PER_PIXEL: 8
SAMPLES_AND_LINES: 5434 7603
HORIZONTAL_DATUM: NAD83
HORIZONTAL_COORDINATE_SYSTEM: UTM
COORDINATE_ZONE: 12
HORIZONTAL_UNITS: METERS
HORIZONTAL_RESOLUTION: 1.00000
SECONDARY_HORIZONTAL_DATUM: NAD27
XY_ORIGIN: 560688.00000 5275293.00000
SECONDARY_XY_ORIGIN: 560746.72000 5275077.60700
NATION: US
NATION: "SCIENCE
STATE: MT
NW_QUAD_CORNER_XY: 561046.58700 5274941.67300
NE_QUAD_CORNER_XY: 565742.44700 5274992.76300
SE_QUAD_CORNERY_XY: 565820.77900 5268046.71400
SW_QUAD_CORNER_XY: 561119.32300 5267995.61400
SECONDARY_NW_QUAD_XY: 561048.49300 5274722.90700
SECONDARY_NE_QUAD_XY: 565744.50000 5274773.99900
SECONDARY_SE_QUAD_XY: 565822.83100 5267827.97000
SECONDARY_SW_QUAD_XY: 561121.22900 5267776.86800
RMSE_XY: 1.10000
IMAGE_SOURCE: BLACK AND WHITE FILM
SOURCE_IMAGE_ID: NAPP 9179 024
SOURCE_IMAGE_DATE: 1997 09 04
SOURCE_IMAGE_ID: NAPP 9179 025
SOURCE_IMAGE_DATE: 1997 09 04
SOURCE_DEM_DATE: 1971 00 00
AGENCY: WESTERN MAPPING CENTER (WMC)
PRODUCER: UNDEFINED
PRODUCTION_SYSTEM: GIS/MAGIC
COMPRESSION: UNDEFINED
STANDARD_VERSION: 1996 12
METADATA_DATE: 2000 06 12
DATA_FILE_SIZE: 41320136
BYTE_COUNT: 5434
