FILENAME: O4711031.SWS.1080018.tif
QUADRANGLE_NAME: SQUARE BUTTE
QUADRANT: SW
WEST_LONGITUDE: -110 15 0.00000
EAST_LONGITUDE: -110 11 15.00000
NORTH_LATITUDE: 47 33 45.00000
SOUTH_LATITUDE: 47 30 0.00000
PRODUCTION_DATE: 2000 5 12
RASTER_ORDER: LEFT_RIGHT/TOP_BOTTOM
BAND_ORGANIZATION: SINGLE FILE
BAND_CONTENT: BLACK&WHITE
BAND_CONTENT: UNDEFINED
BAND_CONTENT: UNDEFINED
BITS_PER_PIXEL: 8
SAMPLES_AND_LINES: 5434 7600
HORIZONTAL_DATUM: NAD83
HORIZONTAL_COORDINATE_SYSTEM: UTM
COORDINATE_ZONE: 12
HORIZONTAL_UNITS: METERS
HORIZONTAL_RESOLUTION: 1.00000
SECONDARY_HORIZONTAL_DATUM: NAD27
XY_ORIGIN: 556059.00000 5268296.00000
SECONDARY_XY_ORIGIN: 556117.79700 5268080.74800
NATION: US
NATION: "SCIENCE
STATE: MT
NW_QUAD_CORNER_XY: 556417.86100 5267948.30000
NE_QUAD_CORNER_XY: 561119.32300 5267995.61400
SE_QUAD_CORNERY_XY: 561191.98600 5261049.63000
SW_QUAD_CORNER_XY: 556484.93400 5261002.30600
SECONDARY_NW_QUAD_XY: 556419.62100 5267729.55300
SECONDARY_NE_QUAD_XY: 561121.22900 5267776.86800
SECONDARY_SE_QUAD_XY: 561193.89200 5260830.90500
SECONDARY_SW_QUAD_XY: 556486.69300 5260783.58000
RMSE_XY: 1.30000
IMAGE_SOURCE: BLACK AND WHITE FILM
SOURCE_IMAGE_ID: NAPP 9177 058
SOURCE_IMAGE_DATE: 1997 09 04
SOURCE_IMAGE_ID: NAPP 9177 061
SOURCE_IMAGE_DATE: 1997 09 04
SOURCE_IMAGE_ID: NAPP 9179 023
SOURCE_IMAGE_DATE: 1997 09 04
SOURCE_DEM_DATE: 1971 00 00
AGENCY: WESTERN MAPPING CENTER (WMC)
PRODUCER: UNDEFINED
PRODUCTION_SYSTEM: GIS/MAGIC
COMPRESSION: UNDEFINED
STANDARD_VERSION: 1996 12
METADATA_DATE: 2000 06 12
DATA_FILE_SIZE: 41303834
BYTE_COUNT: 5434
