FILENAME: O4711030.NWS.1080008.tif
QUADRANGLE_NAME: GERALDINE
QUADRANT: NW
WEST_LONGITUDE: -110 22 30.00000
EAST_LONGITUDE: -110 18 45.00000
NORTH_LATITUDE: 47 37 30.00000
SOUTH_LATITUDE: 47 33 45.00000
PRODUCTION_DATE: 2000 5 12
RASTER_ORDER: LEFT_RIGHT/TOP_BOTTOM
BAND_ORGANIZATION: SINGLE FILE
BAND_CONTENT: BLACK&WHITE
BAND_CONTENT: UNDEFINED
BAND_CONTENT: UNDEFINED
BITS_PER_PIXEL: 8
SAMPLES_AND_LINES: 5418 7592
HORIZONTAL_DATUM: NAD83
HORIZONTAL_COORDINATE_SYSTEM: UTM
COORDINATE_ZONE: 12
HORIZONTAL_UNITS: METERS
HORIZONTAL_RESOLUTION: 1.00000
SECONDARY_HORIZONTAL_DATUM: NAD27
XY_ORIGIN: 546600.00000 5275151.00000
SECONDARY_XY_ORIGIN: 546658.63600 5274935.74800
NATION: US
NATION: "SCIENCE
STATE: MT
NW_QUAD_CORNER_XY: 546958.97100 5274811.11300
NE_QUAD_CORNER_XY: 551654.84900 5274850.84800
SE_QUAD_CORNERY_XY: 551716.39400 5267904.77100
SW_QUAD_CORNER_XY: 547014.92100 5267865.02800
SECONDARY_NW_QUAD_XY: 546960.43700 5274592.34200
SECONDARY_NE_QUAD_XY: 551656.46200 5274632.07900
SECONDARY_SE_QUAD_XY: 551718.00600 5267686.02300
SECONDARY_SW_QUAD_XY: 547016.38700 5267646.27800
RMSE_XY: 1.20000
IMAGE_SOURCE: BLACK AND WHITE FILM
SOURCE_IMAGE_ID: NAPP 9177 167
SOURCE_IMAGE_DATE: 1997 09 04
SOURCE_IMAGE_ID: NAPP 9164 195
SOURCE_IMAGE_DATE: 1996 07 27
SOURCE_DEM_DATE: 1993 00 00
AGENCY: WESTERN MAPPING CENTER (WMC)
PRODUCER: UNDEFINED
PRODUCTION_SYSTEM: GIS/MAGIC
COMPRESSION: UNDEFINED
STANDARD_VERSION: 1996 12
METADATA_DATE: 2000 06 12
DATA_FILE_SIZE: 41138874
BYTE_COUNT: 5418
