FILENAME: O4711030.SES.1080009.tif
QUADRANGLE_NAME: GERALDINE
QUADRANT: SE
WEST_LONGITUDE: -110 18 45.00000
EAST_LONGITUDE: -110 15 0.00000
NORTH_LATITUDE: 47 33 45.00000
SOUTH_LATITUDE: 47 30 0.00000
PRODUCTION_DATE: 2000 5 12
RASTER_ORDER: LEFT_RIGHT/TOP_BOTTOM
BAND_ORGANIZATION: SINGLE FILE
BAND_CONTENT: BLACK&WHITE
BAND_CONTENT: UNDEFINED
BAND_CONTENT: UNDEFINED
BITS_PER_PIXEL: 8
SAMPLES_AND_LINES: 5428 7596
HORIZONTAL_DATUM: NAD83
HORIZONTAL_COORDINATE_SYSTEM: UTM
COORDINATE_ZONE: 12
HORIZONTAL_UNITS: METERS
HORIZONTAL_RESOLUTION: 1.00000
SECONDARY_HORIZONTAL_DATUM: NAD27
XY_ORIGIN: 551358.00000 5268249.00000
SECONDARY_XY_ORIGIN: 551416.77600 5268033.79100
NATION: US
NATION: "SCIENCE
STATE: MT
NW_QUAD_CORNER_XY: 551716.39400 5267904.77100
NE_QUAD_CORNER_XY: 556417.86100 5267948.30000
SE_QUAD_CORNERY_XY: 556484.93400 5261002.30600
SW_QUAD_CORNER_XY: 551777.87600 5260958.76900
SECONDARY_NW_QUAD_XY: 551718.00600 5267686.02300
SECONDARY_NE_QUAD_XY: 556419.62100 5267729.55300
SECONDARY_SE_QUAD_XY: 556486.69300 5260783.58000
SECONDARY_SW_QUAD_XY: 551779.48900 5260740.04200
RMSE_XY: 1.50000
IMAGE_SOURCE: BLACK AND WHITE FILM
SOURCE_IMAGE_ID: NAPP 9177 061
SOURCE_IMAGE_DATE: 1997 09 04
SOURCE_IMAGE_ID: NAPP 9185 200
SOURCE_IMAGE_DATE: 1998 07 20
SOURCE_IMAGE_ID: NAPP 9177 059
SOURCE_IMAGE_DATE: 1997 09 04
SOURCE_IMAGE_ID: NAPP 9177 058
SOURCE_IMAGE_DATE: 1997 09 04
SOURCE_DEM_DATE: 1993 00 00
AGENCY: WESTERN MAPPING CENTER (WMC)
PRODUCER: UNDEFINED
PRODUCTION_SYSTEM: GIS/MAGIC
COMPRESSION: UNDEFINED
STANDARD_VERSION: 1996 12
METADATA_DATE: 2000 06 12
DATA_FILE_SIZE: 41236516
BYTE_COUNT: 5428
